BEGIN:VCALENDAR
VERSION:2.0
PRODID:-//ChamberMaster//Event Calendar 2.0//EN
METHOD:PUBLISH
X-PUBLISHED-TTL:P3D
REFRESH-INTERVAL:P3D
CALSCALE:GREGORIAN
BEGIN:VEVENT
DTSTART:20260401T223000Z
DTEND:20260402T010000Z
X-MICROSOFT-CDO-ALLDAYEVENT:FALSE
SUMMARY:Ribbon Cutting for In the Game Funtrackers & CASA of the Coastal Bend
DESCRIPTION:In The Game Funtrackers: Ringing of the Bells & Mural Reveal\n\nCelebrate art and advocacy at the In The Game Funtrackers Ribbon Cutting and "Ringing of the Bells" Ceremony.   \n\n\n\nIn partnership with CASA and Nate's Next Kid Up\, we are revealing new hallway murals painted by local foster youth. Join us for this powerful event as we honor our community's commitment to keeping every child safe and valued.\n\n\n\n  Date: Wednesday April 1\, 2026\n\n  Location: 9605 S Padre Island Dr\, Corpus Christi\, TX 78418\n\n  Event Time: 5:30 PM\n\n   Ribbon Cutting Time: 6:15 PM
X-ALT-DESC;FMTTYPE=text/html:In The Game Funtrackers: Ringing of the Bells &amp\; Mural Reveal<br />\nCelebrate art and advocacy at the In The Game Funtrackers Ribbon Cutting and &quot\;Ringing of the Bells&quot\; Ceremony. &#128276\;&#127912\;<br />\n<br />\nIn partnership with CASA and Nate&rsquo\;s Next Kid Up\, we are revealing new hallway murals painted by local foster youth. Join us for this powerful event as we honor our community&rsquo\;s commitment to keeping every child safe and valued.<br />\n<br />\n&#128197\; Date: Wednesday April 1\, 2026<br />\n&#128205\; Location: 9605 S Padre Island Dr\, Corpus Christi\, TX 78418<br />\n&#128338\; Event Time: 5:30 PM<br />\n&#9986\;&#65039\; <strong>Ribbon Cutting Time: 6:15 PM</strong>
LOCATION:
UID:e.1866.30868
SEQUENCE:3
DTSTAMP:20260423T110116Z
URL:https://chamber.unitedcorpuschristi.org/events/details/ribbon-cutting-for-in-the-game-funtrackers-casa-of-the-coastal-bend-30868
END:VEVENT

END:VCALENDAR
