BEGIN:VCALENDAR
VERSION:2.0
PRODID:-//ChamberMaster//Event Calendar 2.0//EN
METHOD:PUBLISH
X-PUBLISHED-TTL:P3D
REFRESH-INTERVAL:P3D
CALSCALE:GREGORIAN
BEGIN:VEVENT
DTSTART:20230223T233000Z
DTEND:20230224T010000Z
X-MICROSOFT-CDO-ALLDAYEVENT:FALSE
SUMMARY:Ribbon Cutting for In The Game Funtrackers
DESCRIPTION:In the Game Funtrackers always looks forward to adding new and fun things to the Coastal Bend. \n\nIn the Game Funtrackers has been a staple for a long time and we are thrilled to watch it grow.
X-ALT-DESC;FMTTYPE=text/html:In the Game Funtrackers always looks forward to adding new and fun things to the Coastal Bend.&nbsp\;<br />\nIn the Game Funtrackers has been a staple for a long time and we are thrilled to watch it grow.
LOCATION:In The Game Funtrackers 9605 S Padre Island Dr\, Corpus Christi\, TX 78418
UID:e.1866.27790
SEQUENCE:3
DTSTAMP:20260424T003937Z
URL:https://chamber.unitedcorpuschristi.org/events/details/ribbon-cutting-for-in-the-game-funtrackers-27790
END:VEVENT

END:VCALENDAR
