BEGIN:VCALENDAR
VERSION:2.0
PRODID:-//ChamberMaster//Event Calendar 2.0//EN
METHOD:PUBLISH
X-PUBLISHED-TTL:P3D
REFRESH-INTERVAL:P3D
CALSCALE:GREGORIAN
BEGIN:VEVENT
DTSTART:20220624T203000Z
DTEND:20220624T220000Z
X-MICROSOFT-CDO-ALLDAYEVENT:FALSE
SUMMARY:Ribbon Cutting for Hinz Home Co
DESCRIPTION:What started as a hobby and love for candles\, turned into a whole home fragrance line. Candles\, fabric refreshers\, laundry soap etc.\n\n\n\nWe also offer BYOB Candle Pouring Workshops\,  Sell wholesale and create private  label candles and have worked with several local businesses on signature scents.
X-ALT-DESC;FMTTYPE=text/html:What started as a hobby and love for candles\, turned into a whole home fragrance line. Candles\, fabric refreshers\, laundry soap etc.<br />\n<br />\nWe also offer BYOB Candle Pouring Workshops\,&nbsp\; Sell wholesale and create private&nbsp\; label candles and have worked with several local businesses on signature scents.<br />\n<br />\n<br />\n
LOCATION:4338 S Staples St. Across from Lithia Dodge
UID:e.1866.27472
SEQUENCE:3
DTSTAMP:20260423T132139Z
URL:https://chamber.unitedcorpuschristi.org/events/details/ribbon-cutting-for-hinz-home-co-27472
END:VEVENT

END:VCALENDAR
