BEGIN:VCALENDAR
VERSION:2.0
PRODID:-//ChamberMaster//Event Calendar 2.0//EN
METHOD:PUBLISH
X-PUBLISHED-TTL:P3D
REFRESH-INTERVAL:P3D
CALSCALE:GREGORIAN
BEGIN:VEVENT
DTSTART:20230301T230000Z
DTEND:20230302T010000Z
X-MICROSOFT-CDO-ALLDAYEVENT:FALSE
SUMMARY:Ribbon Cutting for Grow Local South Texas
DESCRIPTION:The Official Launch of SNAP Acceptance at the Grow Local Farmers' Market is the actual reason for the ribbon cutting at Art Center of Corpus Christi\, 100 North Shoreline Blvd\, Corpus Christi\, TX 78401\, at 5:30PM on March 1\, 2023.  \n\n\n\nIn addition to acceptance of SNAP EBT at Grow Local Farmers Market\, SNAP-Eligible customers can receive bonus coupons to use at the market\, up to $20. Starting this market\, when making SNAP purchases\, SNAP customers buy $1.00 on SNAP EBT and get a $1.00 bonus coupon to spend on SNAP eligible foods at Grow Local Farmers' Market. There is a limit of $20.00 per day in bonus coupons\, while funds last. Stickers\, gardening guides and recipe cards will be free giveaways at our Farmers' Market information table.
X-ALT-DESC;FMTTYPE=text/html:<div>The Official Launch of SNAP Acceptance at the Grow Local Farmers&rsquo\; Market is the actual reason for the ribbon cutting at Art Center of Corpus Christi\, 100 North Shoreline Blvd\, Corpus Christi\, TX 78401\, at 5:30PM on March 1\, 2023.&nbsp\;&nbsp\;<br />\n<br />\nIn addition to acceptance of SNAP EBT at Grow Local Farmers Market\, SNAP-Eligible customers can receive bonus coupons to use at the market\, up to $20. Starting this market\, when making SNAP purchases\, SNAP customers buy $1.00 on SNAP EBT and get a $1.00 bonus coupon to spend on SNAP eligible foods at Grow Local Farmers&#39\; Market. There is a limit of $20.00 per day in bonus coupons\, while funds last. Stickers\, gardening guides and recipe cards will be free giveaways at our Farmers&rsquo\; Market information table.</div>\n\n<div>&nbsp\;</div>\n
LOCATION:Art Center of Corpus Christi 100 North Shoreline Blvd\, Corpus Christi\, TX 78401
UID:e.1866.28664
SEQUENCE:3
DTSTAMP:20260424T024726Z
URL:https://chamber.unitedcorpuschristi.org/events/details/ribbon-cutting-for-grow-local-south-texas-28664
END:VEVENT

END:VCALENDAR
