BEGIN:VCALENDAR
VERSION:2.0
PRODID:-//ChamberMaster//Event Calendar 2.0//EN
METHOD:PUBLISH
X-PUBLISHED-TTL:P3D
REFRESH-INTERVAL:P3D
CALSCALE:GREGORIAN
BEGIN:VEVENT
DTSTART:20220610T150000Z
DTEND:20220610T170000Z
X-MICROSOFT-CDO-ALLDAYEVENT:FALSE
SUMMARY:Ribbon Cutting for GO Car Wash
DESCRIPTION:Free Car Wash for Grand Opening
X-ALT-DESC;FMTTYPE=text/html:<strong>Free Car Wash for Grand Opening</strong>
LOCATION:4138 S Staples St\, Corpus Christi TX 78411
UID:e.1866.27464
SEQUENCE:3
DTSTAMP:20260423T144932Z
URL:https://chamber.unitedcorpuschristi.org/events/details/ribbon-cutting-for-go-car-wash-27464
END:VEVENT

END:VCALENDAR
