BEGIN:VCALENDAR
VERSION:2.0
PRODID:-//ChamberMaster//Event Calendar 2.0//EN
METHOD:PUBLISH
X-PUBLISHED-TTL:P3D
REFRESH-INTERVAL:P3D
CALSCALE:GREGORIAN
BEGIN:VEVENT
DTSTART:20230302T233000Z
DTEND:20230303T010000Z
X-MICROSOFT-CDO-ALLDAYEVENT:FALSE
SUMMARY:Ribbon Cutting for Gemaire Distributors
DESCRIPTION:Gemaire is a Hidden "Gem in Corpus Christi" and one of the \n\nlargest independent distributor of heating\, air conditioning\, refrigeration equipment\, parts and supplies in the world. Headquartered in Deerfield Beach\, Florida\, we have over 85 complete Sales Centers and Together we have been known as a strong\, reliable force within the HVAC industry for more than 40 years. Our distribution rights with trusted manufacturers such as Rheem\, American Standard\, Frigidaire and Maytag allow us to provide only the highest quality\, most eco friendly equipment\, parts and supplies to our valued network of contractor's coast to coast.
X-ALT-DESC;FMTTYPE=text/html:Gemaire is a Hidden &ldquo\;Gem in Corpus Christi&rdquo\; and one of the&nbsp\;<br />\nlargest independent distributor of heating\, air conditioning\, refrigeration equipment\, parts and supplies&nbsp\;in the world. Headquartered in Deerfield Beach\, Florida\, we have over 85 complete Sales Centers and&nbsp\;Together we have been known as a strong\, reliable force within the HVAC industry for more than 40&nbsp\;years. Our distribution rights with trusted manufacturers such as Rheem\, American Standard\, Frigidaire&nbsp\;and Maytag allow us to provide only the highest quality\, most eco&#8208\;friendly equipment\, parts and&nbsp\;supplies to our valued network of contractor&rsquo\;s coast to coast.
LOCATION:5277 Old Brownsville Road\, Corpus Christi 78416 Next to VA
UID:e.1866.28658
SEQUENCE:3
DTSTAMP:20260424T024247Z
URL:https://chamber.unitedcorpuschristi.org/events/details/ribbon-cutting-for-gemaire-distributors-28658
END:VEVENT

END:VCALENDAR
