BEGIN:VCALENDAR
VERSION:2.0
PRODID:-//ChamberMaster//Event Calendar 2.0//EN
METHOD:PUBLISH
X-PUBLISHED-TTL:P3D
REFRESH-INTERVAL:P3D
CALSCALE:GREGORIAN
BEGIN:VEVENT
DTSTART:20230331T223000Z
DTEND:20230401T000000Z
X-MICROSOFT-CDO-ALLDAYEVENT:FALSE
SUMMARY:Ribbon Cutting for FiiZ Drinks
DESCRIPTION:The new Soda Shop FiiZ Drinks will offer an extensive menu of carbonated/non carbonated drinks such as sodas\, smoothies\, frozen drinks\, energy drinks\, and Italian sodas   all customizable with fruit purees\, flavored syrups\, and fresh fruit.  To celebrate the grand opening\, the spot will offer their full menu\, $1 promotional beverages from 11 a.m.-7 p.m\, and giveaways!  Fiiz  Soda Shop also includes delicious snacks such as pretzels\, churro-style donuts\, and cookie dough bites.\n\n \n\nWith tons of potential drink combinations\, Fiiz is truly fun and delicious modern twist to the old fashioned soda fountain experience!\n\n \n\nWe have 4 kids that love snacks and fun drinks. We came across this concept in Utah and have been talking about it for years. \n\n\n\nOn our first trip to Corpus Christi\, we immediately fell in love with it! The breeze\, the Ocean\, and the city is always bustling with people out and about. We felt Corpus would really love this concept. Watch for additional locations in the near future!
X-ALT-DESC;FMTTYPE=text/html:The new Soda Shop FiiZ Drinks will offer an extensive menu of carbonated/non carbonated drinks such as sodas\, smoothies\, frozen drinks\, energy drinks\, and Italian sodas &mdash\; all customizable with fruit purees\, flavored syrups\, and fresh fruit.&nbsp\; To celebrate the grand opening\, the spot will offer their full menu\, $1 promotional beverages from 11 a.m.-7 p.m\, and giveaways!&nbsp\; Fiiz&nbsp\; Soda Shop also includes delicious snacks such as pretzels\, churro-style donuts\, and cookie dough bites.<br />\n&nbsp\;<br />\nWith tons of potential drink combinations\, Fiiz is truly fun and delicious modern twist to the old fashioned soda fountain experience!<br />\n&nbsp\;<br />\nWe have 4 kids that love snacks and fun drinks. We came across this concept in Utah and have been talking about it for years.&nbsp\;<br />\n<br />\nOn our first trip to Corpus Christi\, we immediately fell in love with it! The breeze\, the Ocean\, and the city is always bustling with people out and about. We felt Corpus would really love this concept. Watch for additional locations in the near future!
LOCATION:5940 SPID On the corner of Airline RD & SPID
UID:e.1866.28688
SEQUENCE:3
DTSTAMP:20260424T024233Z
URL:https://chamber.unitedcorpuschristi.org/events/details/ribbon-cutting-for-fiiz-drinks-28688
END:VEVENT

END:VCALENDAR
