BEGIN:VCALENDAR
VERSION:2.0
PRODID:-//ChamberMaster//Event Calendar 2.0//EN
METHOD:PUBLISH
X-PUBLISHED-TTL:P3D
REFRESH-INTERVAL:P3D
CALSCALE:GREGORIAN
BEGIN:VEVENT
DTSTART:20220706T140000Z
DTEND:20220707T040000Z
X-MICROSOFT-CDO-ALLDAYEVENT:FALSE
SUMMARY:Ribbon Cutting for Farmers Insurance -Daniel Zamora Agency
DESCRIPTION:We are extremely happy to be able to become a part of the City of Robstown and provide our services. \n\nDaniel Zamora has over 25years of customer service and people relations experience. \n\nFire Dept Police Dept\, Farmers District Team in attendance.
X-ALT-DESC;FMTTYPE=text/html:We are extremely happy to be able to become a part of the City of Robstown and provide our services.&nbsp\;<br />\nDaniel Zamora has over 25years of customer service and people relations experience.&nbsp\;<br />\nFire Dept Police Dept\, Farmers District Team in attendance.&nbsp\;
LOCATION:500 E. Main Ave Robstown Tx 78380. (across police station)
UID:e.1866.27484
SEQUENCE:3
DTSTAMP:20260423T163610Z
URL:https://chamber.unitedcorpuschristi.org/events/details/ribbon-cutting-for-farmers-insurance-daniel-zamora-agency-27484
END:VEVENT

END:VCALENDAR
