BEGIN:VCALENDAR
VERSION:2.0
PRODID:-//ChamberMaster//Event Calendar 2.0//EN
METHOD:PUBLISH
X-PUBLISHED-TTL:P3D
REFRESH-INTERVAL:P3D
CALSCALE:GREGORIAN
BEGIN:VEVENT
DTSTART:20220523T223000Z
DTEND:20220524T000000Z
X-MICROSOFT-CDO-ALLDAYEVENT:FALSE
SUMMARY:Ribbon Cutting for Family Counseling Service
DESCRIPTION:Family Counseling Service is a nonprofit community mental health organization that has been serving the Coastal Bend for 80 years.  Our mission is to strengthen children\, individuals\, and families by providing professional therapy\, education\, advocacy\, and other supportive services in response to community needs.\n\n\n\nAs we celebrate our 80th anniversary\, Family Counseling Service is grateful for the support of our community and we invite the community to help us mark the occasion!  It is fascinating to review our 80-year history and see how FCS programs have changed along with the needs of our community\, as well as how many needs remain the same.  Over the years many caring staff\, board members\, donors and community partners have come together to make an impact on the lives of countless children\, individuals and families.\n\n\n\nFCS has remained a stead-fast part of the Coastal Bend for 80 years\, providing "behind the scenes" services to assist families and individuals with the many challenges that life often brings.  Nearly 10\,000 hours of services are now provided each year providing healing for trauma\, support through grief\, direction for those feeling lost and hope during adversity.
X-ALT-DESC;FMTTYPE=text/html:Family Counseling Service is a nonprofit community mental health organization that has been serving the Coastal Bend for 80 years.&nbsp\; Our mission is to strengthen children\, individuals\, and families by providing professional therapy\, education\, advocacy\, and other supportive services in response to community needs.<br />\n<br />\nAs we celebrate our 80th anniversary\, Family Counseling Service is grateful for the support of our community and we invite the community to help us mark the occasion!&nbsp\; It is fascinating to review our 80-year history and see how FCS programs have changed along with the needs of our community\, as well as how many needs remain the same.&nbsp\; Over the years many caring staff\, board members\, donors and community partners have come together to make an impact on the lives of countless children\, individuals and families.<br />\n<br />\nFCS has remained a stead-fast part of the Coastal Bend for 80 years\, providing &ldquo\;behind the scenes&rdquo\; services to assist families and individuals with the many challenges that life often brings.&nbsp\; Nearly 10\,000 hours of services are now provided each year&hellip\;providing healing for trauma\, support through grief\, direction for those feeling lost and hope during adversity.<br />\n
LOCATION:The Bay Jewel Event Center 624 N Mesquite St\, Corpus Christi\, TX 78401
UID:e.1866.27455
SEQUENCE:3
DTSTAMP:20260423T121634Z
URL:https://chamber.unitedcorpuschristi.org/events/details/ribbon-cutting-for-family-counseling-service-27455
END:VEVENT

END:VCALENDAR
