BEGIN:VCALENDAR
VERSION:2.0
PRODID:-//ChamberMaster//Event Calendar 2.0//EN
METHOD:PUBLISH
X-PUBLISHED-TTL:P3D
REFRESH-INTERVAL:P3D
CALSCALE:GREGORIAN
BEGIN:VEVENT
DTSTART:20220317T200000Z
DTEND:20220317T223000Z
X-MICROSOFT-CDO-ALLDAYEVENT:FALSE
SUMMARY:Ribbon Cutting for Duke Canchola State Farm
DESCRIPTION:"I was privileged to serve in the U.S. Department of Homeland Security/U.S. Border Patrol for over 20 years securing the US border and to work with local\, state\, and federal law enforcement officers\, community\, leaders\, and business owners to improve the quality of life of the communities we served.\n\n\n\nAs I begin a new journey\, I am anxious to meet and serve the wonderful people in our community and to work with them and \n\nother business leaders to make our community better."\n\n\n\n"Duke Canchola is a Corpus Christi native who has spent a lifetime serving and supporting the community. After graduating from Mary Carroll High School\, he attended the Marine Military Academy\, The Citadel\, the Military College of South Carolina\, and Norwich University\, the Military University of Vermont where he has excelled in academics and leadership."\n\n\n\nRusty the Hook/Sammy the Seagull (CC Hooks)\; Stinger Ray (CC Ice Rays)\; local radio willl be attending.
X-ALT-DESC;FMTTYPE=text/html:&ldquo\;I was privileged to serve in the U.S. Department of Homeland Security/U.S. Border Patrol for over 20 years&nbsp\;securing the US border and to work with local\, state\, and federal law enforcement officers\, community\,&nbsp\;leaders\, and business owners to improve the quality of life of the communities we served.<br />\n<br />\nAs I begin a new&nbsp\;journey\, I am anxious to meet and serve the wonderful people in our community and to work with them and&nbsp\;<br />\nother business leaders to make our community better.&rdquo\;<br />\n<br />\n&ldquo\;Duke Canchola is a Corpus Christi native who has spent a lifetime serving and supporting the&nbsp\;community. After graduating from Mary Carroll High School\, he attended the Marine Military&nbsp\;Academy\, The Citadel\, the Military College of South Carolina\, and Norwich University\, the Military&nbsp\;University of Vermont where he has excelled in academics and leadership.&rdquo\;<br />\n<br />\nRusty the Hook/Sammy the Seagull (CC Hooks)\; Stinger Ray (CC Ice Rays)\; local radio willl be attending.&nbsp\;
LOCATION:4250 I-69 Access Rd #4\, Corpus Christi\, TX 78410\, just past Chili's.
UID:e.1866.27386
SEQUENCE:3
DTSTAMP:20260421T125645Z
URL:https://chamber.unitedcorpuschristi.org/events/details/ribbon-cutting-for-duke-canchola-state-farm-27386
END:VEVENT

END:VCALENDAR
