BEGIN:VCALENDAR
VERSION:2.0
PRODID:-//ChamberMaster//Event Calendar 2.0//EN
METHOD:PUBLISH
X-PUBLISHED-TTL:P3D
REFRESH-INTERVAL:P3D
CALSCALE:GREGORIAN
BEGIN:VEVENT
DTSTART:20220924T163000Z
DTEND:20220924T183000Z
X-MICROSOFT-CDO-ALLDAYEVENT:FALSE
SUMMARY:Ribbon Cutting for Corpus Christi Colonics and Spa
DESCRIPTION:Corpus Christi Colonics and Spa is the first and only spa in the city to offer Colon hydrotherapy. Many more new services to come to also as we are able to expand and have more rooms to be able to bring new services to Corpus Christi. \n\n \n\n3 free colonic sessions and possible sponsorship giveaways.\n\n\n\nCorpus Christi Colonics and Spa is thrilled on its expansion in order to provide additional services. Being born and raised in Corpus\, I love the community and appreciate their support. My goal is to educate and bring more health holistic services.
X-ALT-DESC;FMTTYPE=text/html:Corpus Christi Colonics and Spa is the first and only spa in the city to offer Colon hydrotherapy. Many more new services to come to also as we are able to expand and have more rooms to be able to bring new services to Corpus Christi.&nbsp\;<br />\n&nbsp\;<br />\n3 free colonic sessions and possible sponsorship giveaways.<br />\n<br />\nCorpus Christi Colonics and Spa is thrilled on its expansion in order to provide additional services. Being born and raised in Corpus\, I love the community and appreciate their support. My goal is to educate and bring more health holistic services.
LOCATION:4455 SPID SUITE 1 Next to Love Chrysler car dealership in the Commerce One Park Plaza
UID:e.1866.27504
SEQUENCE:3
DTSTAMP:20260423T180450Z
URL:https://chamber.unitedcorpuschristi.org/events/details/ribbon-cutting-for-corpus-christi-colonics-and-spa-27504
END:VEVENT

END:VCALENDAR
