BEGIN:VCALENDAR
VERSION:2.0
PRODID:-//ChamberMaster//Event Calendar 2.0//EN
METHOD:PUBLISH
X-PUBLISHED-TTL:P3D
REFRESH-INTERVAL:P3D
CALSCALE:GREGORIAN
BEGIN:VEVENT
DTSTART:20221019T220000Z
DTEND:20221020T000000Z
X-MICROSOFT-CDO-ALLDAYEVENT:FALSE
SUMMARY:Ribbon Cutting for Coastal Cosmetic and Plastic Surgery Center
DESCRIPTION:Dr. Cassidy Hinojosa is a board certified Plastic Surgeon here in the Coastal Bend. She owns and operates the only female led plastic surgery office in Corpus Christi. Her business focuses on a combination of both reconstructive as well as aesthetic surgery. \n\nThere will be a raffle for a medical grade skincare package as well as free Botox.\n\nI decided to open my own practice in Corpus Christi because I enjoy caring for and treating patients here in the Coastal Bend. Reconstructive and cosmetic surgery is a very special field\, and I'm so honored to be able to care for the patients of this community.\n\nDr Cassidy Hinojosa is the only female Plastic surgeon in Corpus Christi performing adult plastic surgery\, including both cosmetic and reconstructive procedures. \n\nWe will be hosting our BRA day event (Breast Reconstruction Awareness event). This is an event raising awareness and money for our breast cancer patients. This event features a Bra museum\, where patients and businesses can enter their own decorative Bra which will then be judged in a contest. There will also be a silent auction and other members from the medical community such as general surgeons and primary care providers discussing breast cancer diagnosis\, treatment\, as well as reconstructive surgery. There will also be live music and food.
X-ALT-DESC;FMTTYPE=text/html:<div>Dr. Cassidy Hinojosa is a board certified Plastic Surgeon here in the Coastal Bend. She owns and operates the only female led plastic surgery office in Corpus Christi. Her business focuses on a combination of both reconstructive as well as aesthetic surgery.&nbsp\;</div>\n\n<div>There will be a raffle for a medical grade skincare package as well as free Botox.</div>\n\n<div>I decided to open my own practice in Corpus Christi because I enjoy caring for and treating patients here in the Coastal Bend. Reconstructive and cosmetic surgery is a very special field\, and I&rsquo\;m so honored to be able to care for the patients of this community.</div>\n\n<div>Dr Cassidy Hinojosa is the only female Plastic surgeon in Corpus Christi performing adult plastic surgery\, including both cosmetic and reconstructive procedures.&nbsp\;</div>\n\n<div>We will be hosting our BRA day event (Breast Reconstruction Awareness event). This is an event raising awareness and money for our breast cancer patients. This event features a Bra museum\, where patients and businesses can enter their own decorative Bra which will then be judged in a contest. There will also be a silent auction and other members from the medical community such as general surgeons and primary care providers discussing breast cancer diagnosis\, treatment\, as well as reconstructive surgery. There will also be live music and food.</div>\n
LOCATION:5920 Saratoga Blvd\, Ste 310. Located within the Health Plaza building next to Spohn South Hospital
UID:e.1866.27481
SEQUENCE:3
DTSTAMP:20260423T193959Z
URL:https://chamber.unitedcorpuschristi.org/events/details/ribbon-cutting-for-coastal-cosmetic-and-plastic-surgery-center-27481
END:VEVENT

END:VCALENDAR
