BEGIN:VCALENDAR
VERSION:2.0
PRODID:-//ChamberMaster//Event Calendar 2.0//EN
METHOD:PUBLISH
X-PUBLISHED-TTL:P3D
REFRESH-INTERVAL:P3D
CALSCALE:GREGORIAN
BEGIN:VEVENT
DTSTART:20220916T213000Z
DTEND:20220916T230000Z
X-MICROSOFT-CDO-ALLDAYEVENT:FALSE
SUMMARY:Ribbon Cutting for Coastal Bend Restaurant Week
DESCRIPTION:Launch Party and Ribbon Cutting Ceremony
X-ALT-DESC;FMTTYPE=text/html:Launch Party and Ribbon Cutting Ceremony&nbsp\;
LOCATION:Lucy's Snackbar 312 N Chaparral St\, Corpus Christi\, TX 78401
UID:e.1866.27714
SEQUENCE:3
DTSTAMP:20260423T180211Z
URL:https://chamber.unitedcorpuschristi.org/events/details/ribbon-cutting-for-coastal-bend-restaurant-week-27714
END:VEVENT

END:VCALENDAR
