BEGIN:VCALENDAR
VERSION:2.0
PRODID:-//ChamberMaster//Event Calendar 2.0//EN
METHOD:PUBLISH
X-PUBLISHED-TTL:P3D
REFRESH-INTERVAL:P3D
CALSCALE:GREGORIAN
BEGIN:VEVENT
DTSTART:20221103T223000Z
DTEND:20221104T000000Z
X-MICROSOFT-CDO-ALLDAYEVENT:FALSE
SUMMARY:Ribbon Cutting for Coastal Bend Home Builders Association
DESCRIPTION:The Coastal Bend Home Builders Association (CBHBA) is a non-profit association of professionals\, committed to the home building industry. Affiliated with the Texas Association of Builders and the National Association of Home Builders\, we are a unified voice and resource which provides education to our members and the community and promotes the value and benefits of new home construction.\n\n  \n\nThe Parade of Homes in an annual event hosted and organized by the Coastal Bend Home Builders Association. Premiere home builders of the coastal bend work tirelessly to build unique and beautiful homes for our community\, and this event is an opportunity to showcase some of their most impressive work! We are so proud of the homes our members build for this community\, and can't wait for the Coastal Bend to see this year's amazing Parade!\n\n \n\nChartered in December 1949\, Coastal Bend Home Builder's Association is a trade association representing all segments of the residential building industry in nine counties in South Texas. Our mission is to enhance its member's ability to provide safe\, affordable\, quality housing to the citizens of our area.
X-ALT-DESC;FMTTYPE=text/html:The Coastal Bend Home Builders Association (CBHBA) is a non-profit association of professionals\, committed to the home building industry. Affiliated with the Texas Association of Builders and the National Association of Home Builders\, we are a unified voice and resource which provides education to our members and the community and promotes the value and benefits of new home construction.<br />\n&nbsp\;&nbsp\;<br />\nThe Parade of Homes in an annual event hosted and organized by the Coastal Bend Home Builders Association. Premiere home builders of the coastal bend work tirelessly to build unique and beautiful homes for our community\, and this event is an opportunity to showcase some of their most impressive work! We are so proud of the homes our members build for this community\, and can&rsquo\;t wait for the Coastal Bend to see this year&rsquo\;s amazing Parade!<br />\n&nbsp\;<br />\n<em>Chartered in December 1949\, Coastal Bend Home Builder&#39\;s Association is a trade association representing all segments of the residential building industry in nine counties in South Texas. Our mission is to enhance its member&#39\;s ability to provide safe\, affordable\, quality housing to the citizens of our area.</em><br />\n&nbsp\;\n<div style="margin-top:0in\;margin-right:0in\;margin-bottom:0in\;">&nbsp\;</div>\n
LOCATION:2674 Lanister Lane\, Kings Landing Go down Weber\, just past London. Turn right on Lady Alexa\, turn right on Lady Claudia\, turn left on Lanister Ln. It is the last fully built home on the right hand side at the end of the street.
UID:e.1866.27754
SEQUENCE:3
DTSTAMP:20260423T210134Z
URL:https://chamber.unitedcorpuschristi.org/events/details/ribbon-cutting-for-coastal-bend-home-builders-association-27754
END:VEVENT

END:VCALENDAR
