BEGIN:VCALENDAR
VERSION:2.0
PRODID:-//ChamberMaster//Event Calendar 2.0//EN
METHOD:PUBLISH
X-PUBLISHED-TTL:P3D
REFRESH-INTERVAL:P3D
CALSCALE:GREGORIAN
BEGIN:VEVENT
DTSTART:20220803T220000Z
DTEND:20220804T000000Z
X-MICROSOFT-CDO-ALLDAYEVENT:FALSE
SUMMARY:Ribbon Cutting for Clear Vision Pediatric Ophthalmology Center
DESCRIPTION:My goal is to provide my patients with the most advanced and comprehensive eye care. I perform pediatric and adult eye muscle surgery\, tear duct surgery\, ptosis surgery\, chalazion removal\, eyelid mass removal\, amblyopia management\, and glaucoma screening. I care for emergency eye problems and can determine a surgical plan for your eye needs\n\n\n\nI am so excited to care for the children of Corpus Christi TX. My goal is to make sure every child sees well and can see with both eyes. \n\n\n\nDr. Akor has been in practice since 2006. She completed her college at Yale University. Her medical school in West Virginia. Her eye surgery training at SUNY Buffalo and her pediatric eye surgery training at Children's Health Care of Atlanta.\n\n\n\nMeet and great- and reception with a few snacks
X-ALT-DESC;FMTTYPE=text/html:My goal is to provide my patients with the most advanced and comprehensive eye care. I perform pediatric and adult eye muscle surgery\, tear duct surgery\, ptosis surgery\, chalazion removal\, eyelid mass removal\, amblyopia management\, and glaucoma screening. I care for emergency eye problems and can determine a surgical plan for your eye needs<br />\n<br />\nI am so excited to care for the children of Corpus Christi TX. My goal is to make sure every child sees well and can see with both eyes.&nbsp\;<br />\n<br />\nDr. Akor has been in practice since 2006. She completed her college at Yale University. Her medical school in West Virginia. Her eye surgery training at SUNY Buffalo and her pediatric eye surgery training at Children&rsquo\;s Health Care of Atlanta.<br />\n<br />\nMeet and great- and reception with a few snacks
LOCATION:4707 Everhart Suite 108- in Everhart Plaza across from the US Postal Office.
UID:e.1866.27492
SEQUENCE:3
DTSTAMP:20260423T163214Z
URL:https://chamber.unitedcorpuschristi.org/events/details/ribbon-cutting-for-clear-vision-pediatric-ophthalmology-center-27492
END:VEVENT

END:VCALENDAR
