BEGIN:VCALENDAR
VERSION:2.0
PRODID:-//ChamberMaster//Event Calendar 2.0//EN
METHOD:PUBLISH
X-PUBLISHED-TTL:P3D
REFRESH-INTERVAL:P3D
CALSCALE:GREGORIAN
BEGIN:VEVENT
DTSTART:20221104T140000Z
DTEND:20221104T160000Z
X-MICROSOFT-CDO-ALLDAYEVENT:FALSE
SUMMARY:Ribbon Cutting for CC Bin Steals & Deals
DESCRIPTION:"Our family is excited and honored to be the first bin store model to open in Corpus Christi. We hope this shopping experience will assist with stimulating our local economy and make purchases more affordable for other families during this period of inflation."\n\n \n\nSimon  Sanders and family are frequent bin store shoppers and decided to bring the craze hitting the nation   to Corpus Christi. Local community leaders and pillars with over 20 years serving the local community.\n\nCC Black Chamber participating
X-ALT-DESC;FMTTYPE=text/html:<div>&ldquo\;Our family is excited and honored to be the first bin store model to open in Corpus Christi. We hope this shopping experience will assist with stimulating our local economy and make purchases more affordable for other families during this period of inflation.&rdquo\;</div>\n\n<div>&nbsp\;</div>\n\n<div>Simon&eacute\; Sanders and family are frequent bin store shoppers and decided to bring the craze hitting the nation &ndash\; to Corpus Christi. Local community leaders and pillars with over 20 years serving the local community.</div>\n\n<div>CC Black Chamber participating&nbsp\;</div>\n
LOCATION:4701 Ayers Street\, Suite 603\, Corpus Christi\, TX 78415 Landmark In Pharaoh Plaza
UID:e.1866.27747
SEQUENCE:3
DTSTAMP:20260423T205228Z
URL:https://chamber.unitedcorpuschristi.org/events/details/ribbon-cutting-for-cc-bin-steals-deals-27747
END:VEVENT

END:VCALENDAR
