BEGIN:VCALENDAR
VERSION:2.0
PRODID:-//ChamberMaster//Event Calendar 2.0//EN
METHOD:PUBLISH
X-PUBLISHED-TTL:P3D
REFRESH-INTERVAL:P3D
CALSCALE:GREGORIAN
BEGIN:VEVENT
DTSTART:20220407T222500Z
DTEND:20220408T000000Z
X-MICROSOFT-CDO-ALLDAYEVENT:FALSE
SUMMARY:Ribbon Cutting for CASA of the Coastal Bend at In the Game Funtrackers
DESCRIPTION:"We are excited to share with our community the installment of the In The Game Funtrackers Art of Caring CASA Kids Gallery sponsored by Astound Broadband powered by Grande. The artwork featured is by foster youth who participated in events with their CASA volunteer throughout the past year. "\n\n\n\nCASA of the Coastal Bend serves children from Aransas and Nueces counties who were removed from their homes and placed in foster care because they were victims of abuse and neglect. During 2021\, 150 CASA volunteers served 527 Coastal Bend children in foster care. There were an additional 350+ children waiting for someone to be their voice to help in finding them their forever home which is why we need more people from our community to step up to become advocates.\n\n\n\nAnticipating a Proclamation by Mayor for Child Abuse Awareness\, possible Swear In Ceremony of new CASA volunteers\, Ringing of Bells for victims of child abuse and neglect\, Ribbon Cutting of Art Gallery.
X-ALT-DESC;FMTTYPE=text/html:&ldquo\;We are excited to share with our community the installment of the In The Game Funtrackers Art of Caring CASA Kids Gallery sponsored by Astound Broadband powered by Grande. The artwork featured is by foster youth who participated in events with their CASA volunteer throughout the past year. &ldquo\;<br />\n<br />\nCASA of the Coastal Bend serves children from Aransas and Nueces counties who were removed from their homes and placed in foster care because they were victims of abuse and neglect. During 2021\, 150 CASA volunteers served 527 Coastal Bend children in foster care. There were an additional 350+ children waiting for someone to be their voice to help in finding them their forever home which is why we need more people from our community to step up to become advocates.<br />\n<br />\nAnticipating a Proclamation by Mayor for Child Abuse Awareness\, possible Swear In Ceremony of new CASA volunteers\, Ringing of Bells for victims of child abuse and neglect\, Ribbon Cutting of Art Gallery.<br />\n
LOCATION:In The Game Funtrackers 9605 SPID Corpus Christi\, TX 78418
UID:e.1866.27408
SEQUENCE:3
DTSTAMP:20260423T114439Z
URL:https://chamber.unitedcorpuschristi.org/events/details/ribbon-cutting-for-casa-of-the-coastal-bend-at-in-the-game-funtrackers-27408
END:VEVENT

END:VCALENDAR
