BEGIN:VCALENDAR
VERSION:2.0
PRODID:-//ChamberMaster//Event Calendar 2.0//EN
METHOD:PUBLISH
X-PUBLISHED-TTL:P3D
REFRESH-INTERVAL:P3D
CALSCALE:GREGORIAN
BEGIN:VEVENT
DTSTART:20220518T223000Z
DTEND:20220519T000000Z
X-MICROSOFT-CDO-ALLDAYEVENT:FALSE
SUMMARY:Ribbon Cutting for Brooke's Closet Boutique
DESCRIPTION:We are excited to open a woman's boutique on the southside of town.
X-ALT-DESC;FMTTYPE=text/html:We are excited to open a woman&#39\;s boutique on the southside of town.&nbsp\;<br />\n<br />\n&nbsp\;
LOCATION:7629 S Staples St Ste A108\, Corpus Christi\, TX 78413
UID:e.1866.27456
SEQUENCE:3
DTSTAMP:20260423T121627Z
URL:https://chamber.unitedcorpuschristi.org/events/details/ribbon-cutting-for-brooke-s-closet-boutique-27456
END:VEVENT

END:VCALENDAR
