BEGIN:VCALENDAR
VERSION:2.0
PRODID:-//ChamberMaster//Event Calendar 2.0//EN
METHOD:PUBLISH
X-PUBLISHED-TTL:P3D
REFRESH-INTERVAL:P3D
CALSCALE:GREGORIAN
BEGIN:VEVENT
DTSTART:20230120T230000Z
DTEND:20230121T010000Z
X-MICROSOFT-CDO-ALLDAYEVENT:FALSE
SUMMARY:Ribbon Cutting for Big Brothers Big Sisters
DESCRIPTION:Our mission is to provide children facing adversity with strong & enduring\, professionally supported one to one mentoring relationships that change their lives for the better\, forever. \n\n\n\nBBBS has been around since 1904\n\n\n\nLaunching our "Real Men Mentor" campaign to recruit more male volunteers. It is also National Mentoring Month.
X-ALT-DESC;FMTTYPE=text/html:Our mission is to provide children facing adversity with strong &amp\; enduring\, professionally supported one to one mentoring relationships that change their lives for the better\, forever.&nbsp\;<br />\n<br />\nBBBS has been around since 1904<br />\n<br />\nLaunching our &quot\;Real Men Mentor&quot\; campaign to recruit more male volunteers. It is also National Mentoring Month.<br />\n<br />\n&nbsp\;
LOCATION:Brewster Street Southside 5550 Holly Rd.
UID:e.1866.28511
SEQUENCE:3
DTSTAMP:20260423T232550Z
URL:https://chamber.unitedcorpuschristi.org/events/details/ribbon-cutting-for-big-brothers-big-sisters-28511
END:VEVENT

END:VCALENDAR
