BEGIN:VCALENDAR
VERSION:2.0
PRODID:-//ChamberMaster//Event Calendar 2.0//EN
METHOD:PUBLISH
X-PUBLISHED-TTL:P3D
REFRESH-INTERVAL:P3D
CALSCALE:GREGORIAN
BEGIN:VEVENT
DTSTART:20221010T150000Z
DTEND:20221010T170000Z
X-MICROSOFT-CDO-ALLDAYEVENT:FALSE
SUMMARY:Ribbon Cutting for Bell'Aroma Cafe
DESCRIPTION:Join us for the Ribbon Cutting!
X-ALT-DESC;FMTTYPE=text/html:Join us for the Ribbon Cutting!
LOCATION:711 N Carancahua Suite 149-8\, Corpus Christi\, TX
UID:e.1866.27742
SEQUENCE:3
DTSTAMP:20260423T193039Z
URL:https://chamber.unitedcorpuschristi.org/events/details/ribbon-cutting-for-bell-aroma-cafe-27742
END:VEVENT

END:VCALENDAR
