BEGIN:VCALENDAR
VERSION:2.0
PRODID:-//ChamberMaster//Event Calendar 2.0//EN
METHOD:PUBLISH
X-PUBLISHED-TTL:P3D
REFRESH-INTERVAL:P3D
CALSCALE:GREGORIAN
BEGIN:VEVENT
DTSTART:20220611T160000Z
DTEND:20220611T180000Z
X-MICROSOFT-CDO-ALLDAYEVENT:FALSE
SUMMARY:Ribbon Cutting for AT&T brought to you by Optimum Wireless
DESCRIPTION:Spin to win prizes when you sign up or upgrade your service\n\n\n\nWe are thrilled to bring a new AT&T store to the community of Flour Bluff.  We look forward to serving the community and hosting different events to give back throughout the year.\n\n\n\nDonald is a former Police Officer and his primary goal is to ensure all of our employees and customers have the best experience possible when working or visiting our locations\n\n\n\nDifferent vendors from the area will have tables set up.
X-ALT-DESC;FMTTYPE=text/html:Spin to win prizes when you sign up or upgrade your service<br />\n<br />\nWe are thrilled to bring a new AT&amp\;T store to the community of Flour Bluff.&nbsp\; We look forward to serving the community and hosting different events to give back throughout the year.<br />\n<br />\nDonald is a former Police Officer and his primary goal is to ensure all of our employees and customers have the best experience possible when working or visiting our locations<br />\n<br />\nDifferent vendors from the area will have tables set up.<br />\n
LOCATION:10421 S Padre Island Dr\, Corpus Christie\, TX 78418
UID:e.1866.27457
SEQUENCE:3
DTSTAMP:20260423T132346Z
URL:https://chamber.unitedcorpuschristi.org/events/details/ribbon-cutting-for-at-t-brought-to-you-by-optimum-wireless-27457
END:VEVENT

END:VCALENDAR
