BEGIN:VCALENDAR
VERSION:2.0
PRODID:-//ChamberMaster//Event Calendar 2.0//EN
METHOD:PUBLISH
X-PUBLISHED-TTL:P3D
REFRESH-INTERVAL:P3D
CALSCALE:GREGORIAN
BEGIN:VEVENT
DTSTART:20220310T230000Z
DTEND:20220311T010000Z
X-MICROSOFT-CDO-ALLDAYEVENT:FALSE
SUMMARY:Ribbon Cutting for Any Lab Test Now
DESCRIPTION:Since moving to CC 3 years ago I love the small little big town feel. It's easy to get everywhere. The people are very friendly\, the community is very welcoming to me personally and professionally. I want to get past COVID and continue providing affordable\, accessible lab testing to our community. \n\n\n\nMichelle Schlotter started he medical career in 1992 in San Marcos\, Texas. She managed her husband's general and vascular surgical practice until 2018.  She opened her first Any Lab Test Now in San Marcos\, TX in July 2011. \n\nWhen she and her husband moved to Corpus Christi three years ago to enjoy the coast\, she opened a second Any Lab Test Now here. Covid hit Corpus Christi two weeks after she opened her doors so she could not have a grand opening event. Now two years later Michelle is having a Grand 2-year anniversary party. \n\n\n\nRev. John Roberts from Grace Presbyterian Church to say a blessing for the continued success of the business.
X-ALT-DESC;FMTTYPE=text/html:Since moving to CC 3 years ago I love the small little big town feel. It&rsquo\;s easy to get everywhere. The people are very friendly\, the community is very welcoming to me personally and professionally. I want to get past COVID and continue providing affordable\, accessible lab testing to our community.&nbsp\;<br />\n<br />\nMichelle Schlotter started he medical career in 1992 in San Marcos\, Texas. She managed her husband&rsquo\;s general and vascular surgical practice until 2018.&nbsp\; She opened her first Any Lab Test Now in San Marcos\, TX in July 2011.&nbsp\;<br />\nWhen she and her husband moved to Corpus Christi three years ago to enjoy the coast\, she opened a second Any Lab Test Now here. Covid hit Corpus Christi two weeks after she opened her doors so she could not have a grand opening event. Now two years later Michelle is having a Grand 2-year anniversary party.&nbsp\;<br />\n<br />\nRev. John Roberts from Grace Presbyterian Church to say a blessing for the continued success of the business.<br />\n
LOCATION:5417 Everhart Rd.\, Corpus Christi\, TX 78411
UID:e.1866.27398
SEQUENCE:3
DTSTAMP:20260423T084419Z
URL:https://chamber.unitedcorpuschristi.org/events/details/ribbon-cutting-for-any-lab-test-now-27398
END:VEVENT

END:VCALENDAR
