BEGIN:VCALENDAR
VERSION:2.0
PRODID:-//ChamberMaster//Event Calendar 2.0//EN
METHOD:PUBLISH
X-PUBLISHED-TTL:P3D
REFRESH-INTERVAL:P3D
CALSCALE:GREGORIAN
BEGIN:VEVENT
DTSTART:20230708T154500Z
DTEND:20230708T164500Z
X-MICROSOFT-CDO-ALLDAYEVENT:FALSE
SUMMARY:Ribbon Cutting for All American Hallmark Insurance Agency LLC
DESCRIPTION:Join us for an exciting milestone as we celebrate the 20th anniversary of All American Hallmark Insurance Agency\, LLC with a special ribbon cutting ceremony! Mark your calendars for July 8th\, and be sure to arrive at 10:45 a.m. to be part of this momentous occasion.\n\n\n\nLocated at 4522 Weber Rd. Ste 104\, this newly established insurance agency is ready to serve the community with its comprehensive range of insurance solutions. Whether it's auto\, home\, business\, or life insurance\, All American Hallmark Insurance Agency is committed to providing top-notch coverage and exceptional customer service.\n\n\n\nThe event will kick off with a warm gathering\, allowing guests to arrive 15 minutes early to mingle\, connect\, and get acquainted with one another. This is a great opportunity to network with fellow professionals\, make new connections\, and explore potential partnerships within the industry.\n\n\n\nAt the heart of the event\, the ribbon cutting ceremony will take place\, celebrating 20 years of All American Hallmark Insurance Agency. Witness this memorable moment as distinguished guests\, community leaders\, and industry professionals come together to celebrate the agency's dedication and commitment to serving the community.\n\n\n\nDon't miss this chance to be part of a significant event in our community. Join us on July 8th at 10:45 a.m. at 4522 Weber Rd. Ste 104 and help us with continued success of exceptional insurance services with All American Hallmark Insurance Agency\, LLC.
X-ALT-DESC;FMTTYPE=text/html:<span style="font-size:14px\;"><span style="font-family:arial\;">Join us for an exciting milestone as we celebrate the 20th anniversary of All American Hallmark Insurance Agency\, LLC with a special ribbon cutting ceremony! Mark your calendars for July 8th\, and be sure to arrive at 10:45 a.m. to be part of this momentous occasion.<br />\n<br />\nLocated at 4522 Weber Rd. Ste 104\, this newly established insurance agency is ready to serve the community with its comprehensive range of insurance solutions. Whether it&#39\;s auto\, home\, business\, or life insurance\, All American Hallmark Insurance Agency is committed to providing top-notch coverage and exceptional customer service.<br />\n<br />\nThe event will kick off with a warm gathering\, allowing guests to arrive 15 minutes early to mingle\, connect\, and get acquainted with one another. This is a great opportunity to network with fellow professionals\, make new connections\, and explore potential partnerships within the industry.<br />\n<br />\nAt the heart of the event\, the ribbon cutting ceremony will take place\, celebrating 20 years of All American Hallmark Insurance Agency. Witness this memorable moment as distinguished guests\, community leaders\, and industry professionals come together to celebrate the agency&#39\;s dedication and commitment to serving the community.<br />\n<br />\nDon&#39\;t miss this chance to be part of a significant event in our community. Join us on July 8th at 10:45 a.m. at 4522 Weber Rd. Ste 104 and help us with continued success of exceptional insurance services with All American Hallmark Insurance Agency\, LLC.</span></span>
LOCATION:4522 Weber Rd. Ste 104 Corpus Christi TX 78411
UID:e.1866.28816
SEQUENCE:3
DTSTAMP:20260424T063333Z
URL:https://chamber.unitedcorpuschristi.org/events/details/ribbon-cutting-for-all-american-hallmark-insurance-agency-llc-28816
END:VEVENT

END:VCALENDAR
