BEGIN:VCALENDAR
VERSION:2.0
PRODID:-//ChamberMaster//Event Calendar 2.0//EN
METHOD:PUBLISH
X-PUBLISHED-TTL:P3D
REFRESH-INTERVAL:P3D
CALSCALE:GREGORIAN
BEGIN:VEVENT
DTSTART:20220402T203000Z
DTEND:20220402T220000Z
X-MICROSOFT-CDO-ALLDAYEVENT:FALSE
SUMMARY:Ribbon Cutting for 2Relentless Barbershop
DESCRIPTION:Relentless loves the support from the Corpus Christi Community & want to continue to serve the area.\n\n\n\nRoyal Liedecke is a young entrepreneur who started this company to help offer lower priced booths for local barbers.
X-ALT-DESC;FMTTYPE=text/html:Relentless loves the support from the Corpus Christi Community &amp\; want to continue to serve the area.<br />\n<br />\nRoyal Liedecke is a young entrepreneur who started this company to help offer lower priced booths for local barbers.&nbsp\;<br />\n<br />\n&nbsp\;
LOCATION:5417 S. Staples St .Suite 107 Corpus Christi\, TX 78411
UID:e.1866.27431
SEQUENCE:3
DTSTAMP:20260423T102033Z
URL:https://chamber.unitedcorpuschristi.org/events/details/ribbon-cutting-for-2relentless-barbershop-27431
END:VEVENT

END:VCALENDAR
