BEGIN:VCALENDAR
VERSION:2.0
PRODID:-//ChamberMaster//Event Calendar 2.0//EN
METHOD:PUBLISH
X-PUBLISHED-TTL:P3D
REFRESH-INTERVAL:P3D
CALSCALE:GREGORIAN
BEGIN:VEVENT
DTSTART:20230309T220000Z
DTEND:20230310T000000Z
X-MICROSOFT-CDO-ALLDAYEVENT:FALSE
SUMMARY:Ribbon Cutting for 2nd Chance Auctions
DESCRIPTION:We are an environmentally friendly company\, each time you have an auction you are saving the planet from filling our landfills\, ultimately winding up in our oceans.  You also take all the memories you have in those items and give someone else a chance to appreciate them\, creating their own memories.  We give your treasures and our planet a 2nd Chance.\n\n\n\nPeter and Leah started buying items at auctions and reselling them\, before taking the next logical step of holding auctions themselves.\n\n\n\nLive Auction items\, which the proceeds will be given to Charity.
X-ALT-DESC;FMTTYPE=text/html:We are an environmentally friendly company\, each time you have an auction you are saving the planet from filling our landfills\, ultimately winding up in our oceans.&nbsp\; You also take all the memories you have in those items and give someone else a chance to appreciate them\, creating their own memories.&nbsp\; We give your treasures and our planet a 2nd Chance.<br />\n<br />\nPeter and Leah started buying items at auctions and reselling them\, before taking the next logical step of holding auctions themselves.<br />\n<br />\nLive Auction items\, which the proceeds will be given to Charity.&nbsp\;<br />\n
LOCATION:Sal's Bronx Pizza 5922 Yorktown Blvd Suite 106 Corpus Christi\, TX 78414
UID:e.1866.28665
SEQUENCE:3
DTSTAMP:20260424T024239Z
URL:https://chamber.unitedcorpuschristi.org/events/details/ribbon-cutting-for-2nd-chance-auctions-28665
END:VEVENT

END:VCALENDAR
