BEGIN:VCALENDAR
VERSION:2.0
PRODID:-//ChamberMaster//Event Calendar 2.0//EN
METHOD:PUBLISH
X-PUBLISHED-TTL:P3D
REFRESH-INTERVAL:P3D
CALSCALE:GREGORIAN
BEGIN:VEVENT
DTSTART:20220829T180000Z
DTEND:20220829T200000Z
X-MICROSOFT-CDO-ALLDAYEVENT:FALSE
SUMMARY:Ribbon Cutting for 160 Driving Academy
DESCRIPTION:We are the largest CDL school in the United Stated with being open nearly 10 years and based out of Chicago. Currently we take care of about 60% of USA CDL A Drivers which is a great thing and are looking forward to doing amazing things here in the Coastal Bend. \n\n\n\nSteve Gold started the company 10 years ago.
X-ALT-DESC;FMTTYPE=text/html:We are the largest CDL school in the United Stated with being open nearly 10 years and based out of Chicago. Currently we take care of about 60% of USA CDL A Drivers which is a great thing and are looking forward to doing amazing things here in the Coastal Bend.&nbsp\;<br />\n<br />\nSteve Gold started the company 10 years ago.
LOCATION:3527 S Staples St\, Corpus Christi\, Texas 78411
UID:e.1866.27503
SEQUENCE:3
DTSTAMP:20260423T163023Z
URL:https://chamber.unitedcorpuschristi.org/events/details/ribbon-cutting-for-160-driving-academy-27503
END:VEVENT

END:VCALENDAR
