BEGIN:VCALENDAR
VERSION:2.0
PRODID:-//ChamberMaster//Event Calendar 2.0//EN
METHOD:PUBLISH
X-PUBLISHED-TTL:P3D
REFRESH-INTERVAL:P3D
CALSCALE:GREGORIAN
BEGIN:VEVENT
DTSTART:20220422T210000Z
DTEND:20220422T230000Z
X-MICROSOFT-CDO-ALLDAYEVENT:FALSE
SUMMARY:Ribbon Cutting Ceremony for Roland Barrera Insurance
DESCRIPTION:At Roland Barrera Insurance\, we help companies develop health benefit plans that provide quality benefits options while stabilizing employer healthcare costs.\n\n \n\nOur services include not only specific health plan development\, but also:\n\n \n\n  Customizable Voluntary Benefits\n\n  Healthcare Budget Consulting\n\n  Employee Wellness Plans\n\n  Key Person Benefits\n\n  Plan Administration & Compliance\n\n  Human Resources Services\n\n \n\nWe are truly passionate about helping business owners and their employees navigate access to health care and providing piece of mind that our services will provide solutions when they need it most.  \n\n \n\nLicensed since 1996\, Roland became and independent agent in January of 2013.
X-ALT-DESC;FMTTYPE=text/html:<div>\n<div>At Roland Barrera Insurance\, we help companies develop health benefit plans that provide quality benefits options while stabilizing employer healthcare costs.</div>\n\n<div>&nbsp\;</div>\n\n<div>Our services include not only specific health plan development\, but also:</div>\n\n<div>&nbsp\;</div>\n\n<div>&bull\;<span style="white-space:pre"> </span>Customizable Voluntary Benefits</div>\n\n<div>&bull\;<span style="white-space:pre"> </span>Healthcare Budget Consulting</div>\n\n<div>&bull\;<span style="white-space:pre"> </span>Employee Wellness Plans</div>\n\n<div>&bull\;<span style="white-space:pre"> </span>Key Person Benefits</div>\n\n<div>&bull\;<span style="white-space:pre"> </span>Plan Administration &amp\; Compliance</div>\n\n<div>&bull\;<span style="white-space:pre"> </span>Human Resources Services</div>\n\n<div>&nbsp\;</div>\n\n<div>We are truly passionate about helping business owners and their employees navigate access to health care and providing piece of mind that our services will provide solutions when they need it most.&nbsp\;&nbsp\;</div>\n\n<div>&nbsp\;</div>\n\n<div>Licensed since 1996\, Roland became and independent agent in January of 2013.</div>\n</div>\n
LOCATION:807 N Upper Broadway\, Suite 102. (The Chamberlain)
UID:e.1866.27429
SEQUENCE:3
DTSTAMP:20260423T102251Z
URL:https://chamber.unitedcorpuschristi.org/events/details/ribbon-cutting-ceremony-for-roland-barrera-insurance-27429
END:VEVENT

END:VCALENDAR
