BEGIN:VCALENDAR
VERSION:2.0
PRODID:-//ChamberMaster//Event Calendar 2.0//EN
METHOD:PUBLISH
X-PUBLISHED-TTL:P3D
REFRESH-INTERVAL:P3D
CALSCALE:GREGORIAN
BEGIN:VEVENT
DTSTART:20220723T160000Z
DTEND:20220723T180000Z
X-MICROSOFT-CDO-ALLDAYEVENT:FALSE
SUMMARY:Ribbon Cutting Ceremony for New Wave Group
DESCRIPTION:We are proud to announce the grand opening of New Wave Group's new office! Join us as we celebrate with a ribbon-cutting ceremony and introduction of our services.
X-ALT-DESC;FMTTYPE=text/html:We are proud to announce the grand opening of New Wave Group&rsquo\;s new office! Join us as we celebrate with a ribbon-cutting ceremony and introduction of our services.
LOCATION:418 Peoples St. Corpus Christi\, TX -Suite #100
UID:e.1866.27485
SEQUENCE:3
DTSTAMP:20260423T144830Z
URL:https://chamber.unitedcorpuschristi.org/events/details/ribbon-cutting-ceremony-for-new-wave-group-27485
END:VEVENT

END:VCALENDAR
