BEGIN:VCALENDAR
VERSION:2.0
PRODID:-//ChamberMaster//Event Calendar 2.0//EN
METHOD:PUBLISH
X-PUBLISHED-TTL:P3D
REFRESH-INTERVAL:P3D
CALSCALE:GREGORIAN
BEGIN:VEVENT
DTSTART:20220420T163000Z
DTEND:20220420T180000Z
X-MICROSOFT-CDO-ALLDAYEVENT:FALSE
SUMMARY:Ribbon Cutting Ceremony for Freedom Boat Club of Corpus Christi with PIBA
DESCRIPTION:"Boating Made Simple" Freedom Boat Club is the oldest and largest boat club in the nation providing reciprocal access to 300+ locations in the US\, Canada\, and France. The vision and purpose in establishing the boat club model were simple and straightforward   to provide an affordable option to boat ownership and to deliver a hassle-free recreational boating experience for its members.\n\n\n\nGrowing up with a love for being on the water\, Freedom was the answer to reignite my passion for the outdoors and I saw tremendous opportunity to bring the boat sharing concept to one of the premier Texas Coast destinations at Marker 37 Marina. \n\n\n\nI am thrilled to have opened Freedom Boat Club of Corpus Christi and look forward to sharing my passion for boating with the local community. \n\n\n\nSteven is a veteran franchisor and entrepreneur in the Houston area and an avid recreational boater and fisher.  Now a resident of N. Padre Island\, Gordon will be combining his passion for business and boating with the launch of Freedom's first Corpus Christi location and the 11th location across the state of Texas.\n\n\n\nIn the short 10 months of operation\, we were awarded the Rookie Club of the year\, a great reflection of our staff and amazing founding members. \n\n\n\nWe are located on Sunset Island in the heart of the Marker 37 Marina\, next to Snoopy's just off the JFK Bridge (SPIID) on North Padre Island. next to Snoopy's on Sunset Island. Exit SPID as you come over the JFK bridge.
X-ALT-DESC;FMTTYPE=text/html:&quot\;Boating Made Simple&quot\; Freedom Boat Club is the oldest and largest boat club in the nation providing reciprocal access to 300+ locations in the US\, Canada\, and France. The vision and purpose in establishing the boat club model were simple and straightforward &hellip\; to provide an affordable option to boat ownership and to deliver a hassle-free recreational boating experience for its members.<br />\n<br />\nGrowing up with a love for being on the water\, Freedom was the answer to reignite my passion for the outdoors and I saw tremendous opportunity to bring the boat sharing concept to one of the premier Texas Coast destinations at Marker 37 Marina.&nbsp\;<br />\n<br />\nI am thrilled to have opened Freedom Boat Club of Corpus Christi and look forward to sharing my passion for boating with the local community.&nbsp\;<br />\n<br />\nSteven is a veteran franchisor and entrepreneur in the Houston area and an avid recreational boater and fisher.&nbsp\; Now a resident of N. Padre Island\, Gordon will be combining his passion for business and boating with the&nbsp\;launch of Freedom&rsquo\;s first Corpus Christi location and the 11th location across the state of Texas.<br />\n<br />\nIn the short 10 months of operation\, we were awarded the Rookie Club of the year\, a great reflection of our&nbsp\;staff and amazing founding members.&nbsp\;<br />\n<br />\nWe are located on Sunset Island in the heart of the Marker 37 Marina\, next to Snoopy&rsquo\;s just off the JFK Bridge&nbsp\;(SPIID) on North Padre Island. next to Snoopy&rsquo\;s on Sunset Island. Exit SPID as you come over the JFK bridge.
LOCATION:13317 S. Padre Island Dr\, Corpus Christi\, TX 78418
UID:e.1866.27419
SEQUENCE:3
DTSTAMP:20260423T102508Z
URL:https://chamber.unitedcorpuschristi.org/events/details/ribbon-cutting-ceremony-for-freedom-boat-club-of-corpus-christi-with-piba-27419
END:VEVENT

END:VCALENDAR
