BEGIN:VCALENDAR
VERSION:2.0
PRODID:-//ChamberMaster//Event Calendar 2.0//EN
METHOD:PUBLISH
X-PUBLISHED-TTL:P3D
REFRESH-INTERVAL:P3D
CALSCALE:GREGORIAN
BEGIN:VEVENT
DTSTART:20220617T200000Z
DTEND:20220617T210000Z
X-MICROSOFT-CDO-ALLDAYEVENT:FALSE
SUMMARY:Ribbon Cutting Ceremony for CoastLife Credit Union–Saratoga Branch
DESCRIPTION:CLCU continues to grow in the Coastal Bend in Corpus Christi.  In 2021 one new location opened up in the Downtown Corpus Christi area and in 2022 two locations will open   Saratoga and in Portland across from the Portland HS.\n\n \n\nGina Prince\, current CEO\, has been with the credit union for 37 years.
X-ALT-DESC;FMTTYPE=text/html:<div>CLCU continues to grow in the Coastal Bend in Corpus Christi.&nbsp\; In 2021 one new location opened up in the Downtown Corpus Christi area and in 2022 two locations will open &ndash\; Saratoga and in Portland across from the Portland HS.</div>\n\n<div>&nbsp\;</div>\n\n<div>Gina Prince\, current CEO\, has been with the credit union for 37 years.</div>\n
LOCATION:6818 Saratoga Blvd\, Corpus Christi\, Texas 78414
UID:e.1866.27421
SEQUENCE:3
DTSTAMP:20260423T132624Z
URL:https://chamber.unitedcorpuschristi.org/events/details/ribbon-cutting-ceremony-for-coastlife-credit-union-saratoga-branch-27421
END:VEVENT

END:VCALENDAR
