BEGIN:VCALENDAR
VERSION:2.0
PRODID:-//ChamberMaster//Event Calendar 2.0//EN
METHOD:PUBLISH
X-PUBLISHED-TTL:P3D
REFRESH-INTERVAL:P3D
CALSCALE:GREGORIAN
BEGIN:VEVENT
DTSTART:20220408T200000Z
DTEND:20220408T210000Z
X-MICROSOFT-CDO-ALLDAYEVENT:FALSE
SUMMARY:Ribbon Cutting Ceremony for CoastLife Credit Union-5th Street Branch
DESCRIPTION:CLCU continues to grow in the Coastal Bend in Corpus Christi.  In 2021 one new location opened up in the Downtown Corpus Christi area and in 2022 two locations will open   Saratoga and in Portland across from the Portland HS.
X-ALT-DESC;FMTTYPE=text/html:CLCU continues to grow in the Coastal Bend in Corpus Christi.&nbsp\; In 2021 one new location opened up in the Downtown Corpus Christi area and in 2022 two locations will open &ndash\; Saratoga and in Portland across from the Portland HS.
LOCATION:1601 5th St\, Corpus Christi\, Texas 78404
UID:e.1866.27420
SEQUENCE:3
DTSTAMP:20260423T102427Z
URL:https://chamber.unitedcorpuschristi.org/events/details/ribbon-cutting-ceremony-for-coastlife-credit-union-5th-street-branch-27420
END:VEVENT

END:VCALENDAR
