BEGIN:VCALENDAR
VERSION:2.0
PRODID:-//ChamberMaster//Event Calendar 2.0//EN
METHOD:PUBLISH
X-PUBLISHED-TTL:P3D
REFRESH-INTERVAL:P3D
CALSCALE:GREGORIAN
BEGIN:VEVENT
DTSTART:20220512T160000Z
DTEND:20220512T170000Z
X-MICROSOFT-CDO-ALLDAYEVENT:FALSE
SUMMARY:Ribbon Cutting Ceremony for Choice Living Community
DESCRIPTION:Ribbon Cutting Ceremony
X-ALT-DESC;FMTTYPE=text/html:Ribbon Cutting Ceremony&nbsp\;
LOCATION:3875 S. Staples St. Building #4 Corpus Christi\, TX We are located on the Annapolis Christian School campus in the building next to the gym. We are the two story building at the back.
UID:e.1866.27458
SEQUENCE:3
DTSTAMP:20260423T121634Z
URL:https://chamber.unitedcorpuschristi.org/events/details/ribbon-cutting-ceremony-for-choice-living-community-27458
END:VEVENT

END:VCALENDAR
