BEGIN:VCALENDAR
VERSION:2.0
PRODID:-//ChamberMaster//Event Calendar 2.0//EN
METHOD:PUBLISH
X-PUBLISHED-TTL:P3D
REFRESH-INTERVAL:P3D
CALSCALE:GREGORIAN
BEGIN:VEVENT
DTSTART:20220330T160000Z
DTEND:20220330T180000Z
X-MICROSOFT-CDO-ALLDAYEVENT:FALSE
SUMMARY:Ribbon Cutting Ceremony for BNI Third Coast Business Network
DESCRIPTION:We are very excited to grow in Corpus Christi with our chapters and are looking forward to working with business owners in the Coastal Bend.
X-ALT-DESC;FMTTYPE=text/html:We are very excited to grow in Corpus Christi with our chapters and are looking forward to working with business owners in the Coastal Bend.
LOCATION:Executive Surf Club\, 306 N Chaparral St\, Corpus Christi\, TX 78401
UID:e.1866.27422
SEQUENCE:3
DTSTAMP:20260423T084619Z
URL:https://chamber.unitedcorpuschristi.org/events/details/ribbon-cutting-ceremony-for-bni-third-coast-business-network-27422
END:VEVENT

END:VCALENDAR
