BEGIN:VCALENDAR
VERSION:2.0
PRODID:-//ChamberMaster//Event Calendar 2.0//EN
METHOD:PUBLISH
X-PUBLISHED-TTL:P3D
REFRESH-INTERVAL:P3D
CALSCALE:GREGORIAN
BEGIN:VEVENT
DTSTART:20220324T160000Z
DTEND:20220324T180000Z
X-MICROSOFT-CDO-ALLDAYEVENT:FALSE
SUMMARY:Ribbon Cutting Ceremony for Atomic Omelette and Grill
DESCRIPTION:Have lived in CC for 25 years and love the community and appreciate their support. We are celebrating 10 years in business. \n\n\n\n\n\nDoor Prizes and $10.00 Lunch Special\, Burger and Fries
X-ALT-DESC;FMTTYPE=text/html:Have lived in CC for 25 years and love the community and appreciate their support. We are celebrating 10 years in business.&nbsp\;<br />\n<br />\n<br />\nDoor Prizes and $10.00 Lunch Special\, Burger and Fries
LOCATION:6646 S Staples St\, Corpus Christi\, TX 78413
UID:e.1866.27423
SEQUENCE:3
DTSTAMP:20260423T084703Z
URL:https://chamber.unitedcorpuschristi.org/events/details/ribbon-cutting-ceremony-for-atomic-omelette-and-grill-27423
END:VEVENT

END:VCALENDAR
