BEGIN:VCALENDAR
VERSION:2.0
PRODID:-//ChamberMaster//Event Calendar 2.0//EN
METHOD:PUBLISH
X-PUBLISHED-TTL:P3D
REFRESH-INTERVAL:P3D
CALSCALE:GREGORIAN
BEGIN:VEVENT
DTSTART;VALUE=DATE:20220325
DTEND;VALUE=DATE:20220402
TRANSP:TRANSPARENT
X-MICROSOFT-CDO-ALLDAYEVENT:TRUE
SUMMARY:Piano Celebration Week
DESCRIPTION:The Department of Music at Texas A&M University-Corpus Christi presents Piano Celebration Week\, which will feature guest artists\, faculty\, students\, and over 220 precollege pianists from Texas and the United States in more than a dozen events that run from Friday\, March 25 to Friday\, April 1 at the Performing Arts Center on the campus of Texas A&M-Corpus Christi. The festival\, which celebrates the mastery and artistry of piano performance\, music participation\, and collaboration\, attracts visitors to Corpus Christi and brings together multiple generations to enjoy high-quality performances\, lectures\, and master classes. All of the live events are free and open to the public. For more information and a full list of events\, visit https://www.pianocelebrationweek.com/.
X-ALT-DESC;FMTTYPE=text/html:<span style="color:rgb(40\, 60\, 70)\; font-family:-apple-system\,system-ui\,system-ui\,segoe ui\,helvetica\,arial\,sans-serif\,apple color emoji\,segoe ui emoji\,segoe ui symbol\; font-size:19.8px">The Department of Music at Texas A&amp\;M University-Corpus Christi presents Piano Celebration Week\, which will feature guest artists\, faculty\, students\, and over 220 precollege pianists from Texas and the United States in more than a dozen events that run from Friday\, March 25 to Friday\, April 1 at the Performing Arts Center on the campus of Texas A&amp\;M-Corpus Christi. The festival\, which celebrates the mastery and artistry of piano performance\, music participation\, and collaboration\, attracts visitors to Corpus Christi and brings together multiple generations to enjoy high-quality performances\, lectures\, and master classes. All of the live events are free and open to the public. For more information and a full list of events\, visit&nbsp\;</span><a href="https://www.pianocelebrationweek.com/" rel="noreferrer" style="box-sizing: border-box\; background-image: initial\; background-position: initial\; background-size: initial\; background-repeat: initial\; background-attachment: initial\; background-origin: initial\; background-clip: initial\; color: rgb(27\, 106\, 201)\; font-family: -apple-system\, system-ui\, system-ui\, &quot\;Segoe UI&quot\;\, Helvetica\, Arial\, sans-serif\, &quot\;Apple Color Emoji&quot\;\, &quot\;Segoe UI Emoji&quot\;\, &quot\;Segoe UI Symbol&quot\;\; font-size: 19.8px\;" target="_blank">https://www.pianocelebrationweek.com/</a><span style="color:rgb(40\, 60\, 70)\; font-family:-apple-system\,system-ui\,system-ui\,segoe ui\,helvetica\,arial\,sans-serif\,apple color emoji\,segoe ui emoji\,segoe ui symbol\; font-size:19.8px">.</span>
LOCATION:Performing Arts Center at Texas A&M University-Corpus Christi
UID:e.1866.27414
SEQUENCE:3
DTSTAMP:20260423T084417Z
URL:https://chamber.unitedcorpuschristi.org/events/details/piano-celebration-week-03-25-2022-27414
END:VEVENT

END:VCALENDAR
