BEGIN:VCALENDAR
VERSION:2.0
PRODID:-//ChamberMaster//Event Calendar 2.0//EN
METHOD:PUBLISH
X-PUBLISHED-TTL:P3D
REFRESH-INTERVAL:P3D
CALSCALE:GREGORIAN
BEGIN:VEVENT
DTSTART;VALUE=DATE:20221005
DTEND;VALUE=DATE:20221009
TRANSP:TRANSPARENT
X-MICROSOFT-CDO-ALLDAYEVENT:TRUE
SUMMARY:Oso Bay Biennial XXI
DESCRIPTION:The Oso Bay Biennial is an event hosted every two years by a rotation of disciplines in the Department of Art & Design at Texas A&M University-Corpus Christi. This year features the expansive realm of printmaking and will be celebrated Wednesday\, Oct. 5\, through Saturday\, Oct 8. The Oso Bay Biennial includes exhibitions hosted by the Weil Gallery\, the Art Center of Corpus Christi\, the Art Museum of South Texas\, and Produce Gallery. It will also feature guest speakers\, a downtown procession with artist Dennis McNett\, and the Ink Slingers Ball/Papercut Zine Fest. All events are free and open to the public. For a complete lineup\, visit www.fullcourtpresstx.com.
X-ALT-DESC;FMTTYPE=text/html:<span style="color:rgb(40\, 60\, 70)\; font-family:-apple-system\,system-ui\,system-ui\,segoe ui\,helvetica\,arial\,sans-serif\,apple color emoji\,segoe ui emoji\,segoe ui symbol\; font-size:19.8px">The Oso Bay Biennial is an event hosted every two years by a rotation of disciplines in the Department of Art &amp\; Design at Texas A&amp\;M University-Corpus Christi. This year features the expansive realm of printmaking and will be celebrated Wednesday\, Oct. 5\, through Saturday\, Oct 8. The Oso Bay Biennial includes exhibitions hosted by the Weil Gallery\, the Art Center of Corpus Christi\, the Art Museum of South Texas\, and Produce Gallery. It will also feature guest speakers\, a downtown procession with artist Dennis McNett\, and the Ink Slingers Ball/Papercut Zine Fest. All events are free and open to the public. For a complete lineup\, visit&nbsp\;</span><a href="http://www.fullcourtpresstx.com/" rel="noreferrer" style="box-sizing: border-box\; background-image: initial\; background-position: initial\; background-size: initial\; background-repeat: initial\; background-attachment: initial\; background-origin: initial\; background-clip: initial\; color: var(--color-blue)\; font-family: -apple-system\, system-ui\, system-ui\, &quot\;Segoe UI&quot\;\, Helvetica\, Arial\, sans-serif\, &quot\;Apple Color Emoji&quot\;\, &quot\;Segoe UI Emoji&quot\;\, &quot\;Segoe UI Symbol&quot\;\; font-size: 19.8px\;" target="_blank">www.fullcourtpresstx.com</a><span style="color:rgb(40\, 60\, 70)\; font-family:-apple-system\,system-ui\,system-ui\,segoe ui\,helvetica\,arial\,sans-serif\,apple color emoji\,segoe ui emoji\,segoe ui symbol\; font-size:19.8px">.</span>
LOCATION:Weil Gallery\, the Art Center of Corpus Christi\, the Art Museum of South Texas\, and Produce Gallery
UID:e.1866.27737
SEQUENCE:3
DTSTAMP:20260423T193750Z
URL:https://chamber.unitedcorpuschristi.org/events/details/oso-bay-biennial-xxi-27737
END:VEVENT

END:VCALENDAR
