BEGIN:VCALENDAR
VERSION:2.0
PRODID:-//ChamberMaster//Event Calendar 2.0//EN
METHOD:PUBLISH
X-PUBLISHED-TTL:P3D
REFRESH-INTERVAL:P3D
CALSCALE:GREGORIAN
BEGIN:VEVENT
DTSTART:20230203T000000Z
DTEND:20230203T013000Z
X-MICROSOFT-CDO-ALLDAYEVENT:FALSE
SUMMARY:One Day Reveal Event - Be a Difference Maker
DESCRIPTION:Exclusive Event - See the unveiling of the amazing Be a Difference Maker campaign by AAF & TAMUCC on behalf of New Life Refuge Ministries in the fight to end child trafficking! This event serves as the membership program for AAF-CC\, so we invite all members as well as supporters of New Life Refuge Ministries\, and all former ONE DAY applicants to join us as we unveil the resulting brand and advertising campaign created for New Life Refuge at AAF's annual ONE DAY public service event. Touchpoints include billboards\, bus benches\, print ads\, digital ads\, and promotional and marketing materials for this local non-profit to utilize in 2023 to fulfill its mission serving this community. This campaign will help New Life Refuge Ministries #endchildtrafficking\n\n \n\nThis event is open to all AAF-CC members\, all ONE DAY applicants and special guests of New Life Refuge Ministries. All others are welcome to attend for a fee of $35 by clicking the link below.\n\nhttps://www.aafcc.club/guest-meals\n\nRSVPs are requested for AAF-CC members to info@aafcc.club.\n\n\n\nRSVP's for New Life Refuge invitees click the link below:\n\nhttps://newliferefugeministries.org/events/ or call 361-946-6331
X-ALT-DESC;FMTTYPE=text/html:<div>Exclusive Event - See the unveiling of the amazing Be a Difference Maker campaign by AAF &amp\; TAMUCC on behalf of New Life Refuge Ministries in the fight to end child trafficking! This event serves as the membership program for AAF-CC\, so we invite all members as well as supporters of New Life Refuge Ministries\, and all former ONE DAY applicants to join us as we unveil the resulting brand and advertising campaign created for New Life Refuge at AAF&#39\;s annual ONE DAY public service event. Touchpoints include billboards\, bus benches\, print ads\, digital ads\, and promotional and marketing materials for this local non-profit to utilize in 2023 to fulfill its mission serving this community. This campaign will help New Life Refuge Ministries&nbsp\;<a class="x1i10hfl xjbqb8w x6umtig x1b1mbwd xaqea5y xav7gou x9f619 x1ypdohk xt0psk2 xe8uvvx xdj266r x11i5rnm xat24cr x1mh8g0r xexx8yu x4uap5 x18d9i69 xkhd6sd x16tdsg8 x1hl2dhg xggy1nq x1a2a7pz xt0b8zv xzsf02u x1s688f" href="https://www.facebook.com/hashtag/endchildtrafficking?__eep__=6&amp\;__cft__[0]=AZV8TM-Avtl5kxt5c9oMHkfj66evecCocW2ZhLF6mHETYoyYCFN6GH7oHDKGSwCLSOTQh7q2WNZAOZNIdR_UkZe_esyPEeC6iPigwbk6M5WoOPb7MjXiww9p5KHA6QOiAIZ-c8IoONoKQ8pn7eBjRnfXg1uo77dF0JYs1HCQcW86vw&amp\;__tn__=q" style="cursor: pointer\; text-decoration-line: none\; margin: 0px\; text-align: inherit\; padding: 0px\; outline: none\; border-width: 0px\; border-style: initial\; border-color: initial\; -webkit-tap-highlight-color: transparent\; font-weight: 600\; box-sizing: border-box\; list-style: none\; touch-action: manipulation\; background-color: transparent\; display: inline\; font-family: inherit\;" tabindex="0">#endchildtrafficking</a><br />\n&nbsp\;</div>\n\n<div>This event is open to all AAF-CC members\, all ONE DAY applicants and special guests of New Life Refuge Ministries. All others are welcome to attend for a fee of $35 by clicking the link below.</div>\n\n<div><a class="x1i10hfl xjbqb8w x6umtig x1b1mbwd xaqea5y xav7gou x9f619 x1ypdohk xt0psk2 xe8uvvx xdj266r x11i5rnm xat24cr x1mh8g0r xexx8yu x4uap5 x18d9i69 xkhd6sd x16tdsg8 x1hl2dhg xggy1nq x1a2a7pz xt0b8zv x1fey0fg" href="https://l.facebook.com/l.php?u=https%3A%2F%2Fwww.aafcc.club%2Fguest-meals%3Ffbclid%3DIwAR3rkgDX6QFjbN88J3sEmmhZSRgPi4NVjF3_Kp745MLMs1veslYHQQU4EBg&amp\;h=AT1LAwCUrYwsAxVNAwG35go6A2UP08XBx9TKpVvmZRs6runlzgC8JSCZv2fzxNzJkK-qe3x2CAPKrmoPXyTdMne7Gv_egfK4cwxYaWAacEDYaA28p6bE1kos3m8adzbHRdyD&amp\;__tn__=q&amp\;c[0]=AT0FacTxzAcQ0w6Q73HvA6wvVLiNa-w3cvEy1qoHIY6DlPeP7PJ4bAizF4IoHv8MrFMUhtKarzN5qBfVWGu_kLTwicFR94W2pQ1uF5RoonMbEWExqAk3RwtmH-XHbiUjmkJmo2ZKhgex16g9OU-tOww7O2LB1XuZfrsNShcD6xp8IzfysJ_r" rel="nofollow noopener" style="cursor: pointer\; text-decoration-line: none\; margin: 0px\; text-align: inherit\; padding: 0px\; outline: none\; border-width: 0px\; border-style: initial\; border-color: initial\; -webkit-tap-highlight-color: transparent\; box-sizing: border-box\; list-style: none\; touch-action: manipulation\; background-color: transparent\; display: inline\; font-family: inherit\;" tabindex="0" target="_blank">https://www.aafcc.club/guest-meals</a></div>\n\n<div>RSVPs are requested for AAF-CC members to info@aafcc.club.<br />\n<br />\nRSVP&#39\;s for New Life Refuge invitees click the link below:<br />\nhttps://newliferefugeministries.org/events/ or call 361-946-6331</div>\n
LOCATION:Texas A&M University-Corpus Christi Anchor Ballroom
UID:e.1866.28518
SEQUENCE:3
DTSTAMP:20260424T003321Z
URL:https://chamber.unitedcorpuschristi.org/events/details/one-day-reveal-event-be-a-difference-maker-28518
END:VEVENT

END:VCALENDAR
