BEGIN:VCALENDAR
VERSION:2.0
PRODID:-//ChamberMaster//Event Calendar 2.0//EN
METHOD:PUBLISH
X-PUBLISHED-TTL:P3D
REFRESH-INTERVAL:P3D
CALSCALE:GREGORIAN
BEGIN:VEVENT
DTSTART:20220413T163000Z
DTEND:20220413T180000Z
X-MICROSOFT-CDO-ALLDAYEVENT:FALSE
SUMMARY:Members Who Lunch hosted by New Wave Xpo at The Astor Restaurant
DESCRIPTION:Join the United Corpus Christi Chamber of Commerce for Members Who Lunch (MWL) hosted by New Wave Xpo!  This networking event provides members with the opportunity to make new business connections while enjoying lunch at The Astor Restaurant. (Lunch is not included\, but will be available for purchase at the event!)\n\n\n\nThank you to our Presenting Sponsors:\n\n\n\nNew Wave Xpo\n\n\n\nThe Astor Restaurant
X-ALT-DESC;FMTTYPE=text/html:Join the United Corpus Christi Chamber of Commerce for Members Who Lunch (MWL) hosted by New Wave Xpo!&nbsp\; This networking event provides members with the opportunity to make new business connections while enjoying lunch at The Astor Restaurant. (Lunch is not included\, but will be available for purchase at the event!)<br />\n<br />\nThank you to our Presenting Sponsors:<br />\n<br />\nNew Wave Xpo<br />\n<br />\nThe Astor Restaurant&nbsp\;
LOCATION:The Astor Restaurant 5533 Leopard St Corpus Christi\, TX 78408
UID:e.1866.27430
SEQUENCE:3
DTSTAMP:20260423T102236Z
URL:https://chamber.unitedcorpuschristi.org/events/details/members-who-lunch-hosted-by-new-wave-xpo-at-the-astor-restaurant-27430
END:VEVENT

END:VCALENDAR
