BEGIN:VCALENDAR
VERSION:2.0
PRODID:-//ChamberMaster//Event Calendar 2.0//EN
METHOD:PUBLISH
X-PUBLISHED-TTL:P3D
REFRESH-INTERVAL:P3D
CALSCALE:GREGORIAN
BEGIN:VEVENT
DTSTART:20220324T220000Z
DTEND:20220325T000000Z
X-MICROSOFT-CDO-ALLDAYEVENT:FALSE
SUMMARY:Members Who Dine hosted by Sal's Bronx Pizza
DESCRIPTION:Join the United Corpus Christi Chamber of Commerce for Members Who Dine hosted by Sal's Bronx Pizza! This networking event provides members with the opportunity to make new business connections while enjoying dinner. \n\n\n\nThank you to our Supporting Sponsor:\n\n\n\nSpectrum Reach
X-ALT-DESC;FMTTYPE=text/html:Join the United Corpus Christi Chamber of Commerce for Members Who Dine hosted by Sal&#39\;s Bronx Pizza! This networking event provides members with the opportunity to make new business connections while enjoying dinner.&nbsp\;<br />\n<br />\nThank you to our Supporting Sponsor:<br />\n<br />\nSpectrum Reach&nbsp\;<br />\n&nbsp\;
LOCATION:Sal's Bronx Pizza 5922 Yorktown Blvd Corpus Christi\, TX 78414
UID:e.1866.27399
SEQUENCE:3
DTSTAMP:20260423T084556Z
URL:https://chamber.unitedcorpuschristi.org/events/details/members-who-dine-hosted-by-sal-s-bronx-pizza-27399
END:VEVENT

END:VCALENDAR
