BEGIN:VCALENDAR
VERSION:2.0
PRODID:-//ChamberMaster//Event Calendar 2.0//EN
METHOD:PUBLISH
X-PUBLISHED-TTL:P3D
REFRESH-INTERVAL:P3D
CALSCALE:GREGORIAN
BEGIN:VEVENT
DTSTART:20220427T163000Z
DTEND:20220427T180000Z
X-MICROSOFT-CDO-ALLDAYEVENT:FALSE
SUMMARY:Lunch & Learn with Spectrum Reach
DESCRIPTION:Why Multiscreen Advertising Matters How to navigate the fast-growing media landscape\n\nThe ways that consumers are digesting media continues to evolve. Now you can gain a competitive edge with valuable marketing strategies\, as well as exclusive viewership insights. Join us for a deep dive into the exciting world of multiscreen advertising and its power to make your business grow.\n\n\n\nRSVP Today!
X-ALT-DESC;FMTTYPE=text/html:Why Multiscreen Advertising Matters How to navigate the fast-growing media landscape<br />\nThe ways that consumers are digesting media continues to evolve. Now you can gain a competitive edge with valuable marketing strategies\, as well as exclusive viewership insights. Join us for a deep dive into the exciting world of multiscreen advertising and its power to make your business grow.<br />\n<br />\nRSVP Today!
LOCATION:Texas State Aquarium 2710 N. Shoreline Blvd Corpus Christi\, TX 78402
UID:e.1866.27439
SEQUENCE:3
DTSTAMP:20260423T101738Z
URL:https://chamber.unitedcorpuschristi.org/events/details/lunch-learn-with-spectrum-reach-27439
END:VEVENT

END:VCALENDAR
