BEGIN:VCALENDAR
VERSION:2.0
PRODID:-//ChamberMaster//Event Calendar 2.0//EN
METHOD:PUBLISH
X-PUBLISHED-TTL:P3D
REFRESH-INTERVAL:P3D
CALSCALE:GREGORIAN
BEGIN:VEVENT
DTSTART:20230412T170000Z
DTEND:20230412T183000Z
X-MICROSOFT-CDO-ALLDAYEVENT:FALSE
SUMMARY:Lunch & Learn Bonding Series: Financial Statements Presentation
DESCRIPTION:Contractor Resource Center and the United Corpus Christi Chamber of Commerce invite you to the next Lunch & Learn: Bonding Series featuring Financial Statement Presentation\, presented by Jim Swindle\, AFSB (Alamo Surety Bonds)\n\n\n\nAre you currently running a business? Are you wondering how you can bid on large\, commercial\, and industrial projects?  Join us for part 2 of our Bonding Series as we dive into financial statements and how they effect bond capacity.  Register today!  bit.ly/CRCTRAINING    \n\n\n\nLimited Seating: No Cost with RSVP\n\n\n\nBrought to you by:  Contractor Resource Center\, Del Mar College\, B Corp Corpus Christi\,  United Corpus Christi Chamber of Commerce
X-ALT-DESC;FMTTYPE=text/html:Contractor Resource Center and the United Corpus Christi Chamber of Commerce invite you to the next Lunch &amp\; Learn: Bonding Series featuring Financial Statement Presentation\, presented by Jim Swindle\, AFSB (Alamo Surety Bonds)<br />\n<br />\nAre you currently running a business? Are you wondering how you can bid on large\, commercial\, and industrial projects?&nbsp\; Join us for part 2 of our Bonding Series as we dive into financial statements and how they effect bond capacity.&nbsp\; Register today!&nbsp\; bit.ly/CRCTRAINING&nbsp\;&nbsp\;&nbsp\;&nbsp\;<br />\n<br />\nLimited Seating: No Cost with RSVP<br />\n<br />\nBrought to you by:&nbsp\; Contractor Resource Center\, Del Mar College\, B Corp Corpus Christi\,&nbsp\; United Corpus Christi Chamber of Commerce
LOCATION:Del Mar College Center for Economic Development 3209 S Staples St.\, Corpus Christi\, TX
UID:e.1866.28695
SEQUENCE:3
DTSTAMP:20260424T025124Z
URL:https://chamber.unitedcorpuschristi.org/events/details/lunch-learn-bonding-series-financial-statements-presentation-28695
END:VEVENT

END:VCALENDAR
