BEGIN:VCALENDAR
VERSION:2.0
PRODID:-//ChamberMaster//Event Calendar 2.0//EN
METHOD:PUBLISH
X-PUBLISHED-TTL:P3D
REFRESH-INTERVAL:P3D
CALSCALE:GREGORIAN
BEGIN:VEVENT
DTSTART:20230330T170000Z
DTEND:20230330T180000Z
X-MICROSOFT-CDO-ALLDAYEVENT:FALSE
SUMMARY:Lunch & Learn Bonding Series
DESCRIPTION:Lunch & Learn Bonding Series:  Understanding Bonds & the SBA Programs\n\nAre you currently running a business?\n\nAre you wondering how you can bid on\n\nlarge commercial projects? In this\n\nseminar\, we will cover different types of\n\nsurety bonds and how they are\n\nnecessary in commercial contracting.\n\nRegister now!\n\n\n\nPresenter: Jim Swindle\, AFSB Alamo Surety Bonds\n\n\n\npresented by Del Mar College Contractor Resource Center & the United Corpus Christi Chamber of Commerce
X-ALT-DESC;FMTTYPE=text/html:Lunch &amp\; Learn Bonding Series:&nbsp\; Understanding Bonds &amp\; the SBA Programs<br />\nAre you currently running a business?<br />\nAre you wondering how you can bid on<br />\nlarge commercial projects? In this<br />\nseminar\, we will cover different types of<br />\nsurety bonds and how they are<br />\nnecessary in commercial contracting.<br />\nRegister now!<br />\n<br />\nPresenter: Jim Swindle\, AFSB Alamo Surety Bonds<br />\n<br />\npresented by Del Mar College Contractor Resource Center &amp\; the United Corpus Christi Chamber of Commerce
LOCATION:Del Mar College Center for Economic Development 3209 S Staples\, Corpus Christi\, TX
UID:e.1866.28679
SEQUENCE:3
DTSTAMP:20260424T024106Z
URL:https://chamber.unitedcorpuschristi.org/events/details/lunch-learn-bonding-series-28679
END:VEVENT

END:VCALENDAR
