BEGIN:VCALENDAR
VERSION:2.0
PRODID:-//ChamberMaster//Event Calendar 2.0//EN
METHOD:PUBLISH
X-PUBLISHED-TTL:P3D
REFRESH-INTERVAL:P3D
CALSCALE:GREGORIAN
BEGIN:VEVENT
DTSTART:20220324T160000Z
DTEND:20220324T173000Z
X-MICROSOFT-CDO-ALLDAYEVENT:FALSE
SUMMARY:Lunch and Living
DESCRIPTION:Choice Living hosts our second Lunch and Living with sponsoring guest speaker Will Storbeck and much more!
X-ALT-DESC;FMTTYPE=text/html:<span style="color:rgb(5\, 5\, 5)\; font-family:segoe ui historic\,segoe ui\,helvetica\,arial\,sans-serif\; font-size:15px">Choice Living hosts our second Lunch and Living with sponsoring guest speaker Will Storbeck and much more!</span>
LOCATION:Choice Living Community Center 3875 S. Staples St.\, Building #4
UID:e.1866.27425
SEQUENCE:3
DTSTAMP:20260423T084354Z
URL:https://chamber.unitedcorpuschristi.org/events/details/lunch-and-living-27425
END:VEVENT

END:VCALENDAR
