BEGIN:VCALENDAR
VERSION:2.0
PRODID:-//ChamberMaster//Event Calendar 2.0//EN
METHOD:PUBLISH
X-PUBLISHED-TTL:P3D
REFRESH-INTERVAL:P3D
CALSCALE:GREGORIAN
BEGIN:VEVENT
DTSTART:20220422T170000Z
DTEND:20220423T000000Z
X-MICROSOFT-CDO-ALLDAYEVENT:FALSE
SUMMARY:Loan Repayment Workshop
DESCRIPTION:The COVID-19 emergency relief for federal student loans ends soon. In advance of that deadline\, Texas A&M University-Corpus Christi is hosting a Loan Repayment Workshop on Friday\, April 22\, from noon to 7 p.m. in the O'Conner Building\, room 241\, to help borrowers prepare for loan payments to begin again. The Loan Repayment Workshop\, which is open to all community members with deferred student loans including TAMU-CC alumni\, will include experts to assist with loan consolidation\, income-based repayment plans\, public student loan forgiveness\, and the teacher loan forgiveness processes.
X-ALT-DESC;FMTTYPE=text/html:<span style="color:rgb(40\, 60\, 70)\; font-family:-apple-system\,system-ui\,system-ui\,segoe ui\,helvetica\,arial\,sans-serif\,apple color emoji\,segoe ui emoji\,segoe ui symbol\; font-size:19.8px">The COVID-19 emergency relief for federal student loans ends soon. In advance of that deadline\, Texas A&amp\;M University-Corpus Christi is hosting a Loan Repayment Workshop on Friday\, April 22\, from noon to 7 p.m. in the O&rsquo\;Conner Building\, room 241\, to help borrowers prepare for loan payments to begin again. The Loan Repayment Workshop\, which is open to all community members with deferred student loans including TAMU-CC alumni\, will include experts to assist with loan consolidation\, income-based repayment plans\, public student loan forgiveness\, and the teacher loan forgiveness processes.</span>
LOCATION:Texas A&M University- Corpus Christi\, O'Connor Building\, room 241
UID:e.1866.27443
SEQUENCE:3
DTSTAMP:20260423T101605Z
URL:https://chamber.unitedcorpuschristi.org/events/details/loan-repayment-workshop-27443
END:VEVENT

END:VCALENDAR
