BEGIN:VCALENDAR
VERSION:2.0
PRODID:-//ChamberMaster//Event Calendar 2.0//EN
METHOD:PUBLISH
X-PUBLISHED-TTL:P3D
REFRESH-INTERVAL:P3D
CALSCALE:GREGORIAN
BEGIN:VEVENT
DTSTART:20220521T230000Z
DTEND:20220522T043000Z
X-MICROSOFT-CDO-ALLDAYEVENT:FALSE
SUMMARY:Live Big & Speakeasy Gala
DESCRIPTION:You don't want to miss this Live Big & Speakeasy event presented by Choice Living Community! This is our second annual gala and will be filled with dinner\, dancing\, and many more fun filled activities!
X-ALT-DESC;FMTTYPE=text/html:<span style="color:rgb(5\, 5\, 5)\; font-family:segoe ui historic\,segoe ui\,helvetica\,arial\,sans-serif\; font-size:15px">You don&#39\;t want to miss this Live Big &amp\; Speakeasy event presented by Choice Living Community! This is our&nbsp\;second annual gala and will be filled with dinner\, dancing\, and many more fun filled activities!</span>
LOCATION:3700 Ocean Drive
UID:e.1866.27426
SEQUENCE:3
DTSTAMP:20260423T115439Z
URL:https://chamber.unitedcorpuschristi.org/events/details/live-big-speakeasy-gala-27426
END:VEVENT

END:VCALENDAR
