BEGIN:VCALENDAR
VERSION:2.0
PRODID:-//ChamberMaster//Event Calendar 2.0//EN
METHOD:PUBLISH
X-PUBLISHED-TTL:P3D
REFRESH-INTERVAL:P3D
CALSCALE:GREGORIAN
BEGIN:VEVENT
DTSTART:20230325T140000Z
DTEND:20230325T180000Z
X-MICROSOFT-CDO-ALLDAYEVENT:FALSE
SUMMARY:Lemonade Micro Loan Day 2023
DESCRIPTION:Lemonade Micro Loan Day will take place on March 25th\, 2023\, prior to the 11th annual Lemonade Day Coastal Bend on Saturday\, May 6th\, 2023. The community-wide event will provide the opportunity for program participants to visit one of the participating business locations to learn first-hand about the process of securing a business loan and the importance of opening a savings account.\n\n\n\nWe invite you to join us in the effort to teach Coastal Bend youth about the importance of financial literacy and goal setting by becoming a sponsor of the inaugural Lemonade Micro Loan Day. This fresh\, new event and sponsorship opportunity is an opportunity for local banks and financial institutions to get involved with and support Lemonade Day Coastal Bend\, an educational initiative that introduces youth to entrepreneurship\, teaching them how to start\, own and operate their own business\, a lemonade stand. Lemonade Micro Loan Day will take place in the early Spring prior to the annual Lemonade Day Coastal Bend. The community-wide event will provide the opportunity for program participants to visit one of the participating business locations to learn first-hand about the process of securing a business loan and the importance of opening a savings account.\n\n\n\nFor more information contact: Hope Rangel\, hope@unitedcorpuschristi.org
X-ALT-DESC;FMTTYPE=text/html:<span style="font-family:arial\;"><span style="color: rgb(29\, 33\, 41)\; white-space: pre-wrap\; background-color: rgb(255\, 255\, 255)\;"><strong>Lemonade Micro Loan Day </strong>will take place on <strong>March 25th\, 2023\,</strong> prior to the 11th annual Lemonade Day Coastal Bend on Saturday\, May 6th\, 2023. The community-wide event will provide the opportunity for program participants to visit one of the participating business locations to learn first-hand about the process of securing a business loan and the importance of opening a savings account.</span><br />\n<br />\nWe invite you to join us in the effort to teach Coastal Bend youth about the importance of financial literacy and goal setting by becoming a sponsor of the inaugural Lemonade Micro Loan Day. This fresh\, new event and sponsorship opportunity is an opportunity for local banks and financial institutions to get involved with and support Lemonade Day Coastal Bend\, an educational initiative that introduces youth to entrepreneurship\, teaching them how to start\, own and operate their own business\, a lemonade stand. Lemonade Micro Loan Day will take place in the early Spring prior to the annual Lemonade Day Coastal Bend. The community-wide event will provide the opportunity for program participants to visit one of the participating business locations to learn first-hand about the process of securing a business loan and the importance of opening a savings account.<br />\n<br />\n<strong><span style="font-size:14px\;">For more information contact: Hope Rangel</span>\,&nbsp\;<span style="font-size:14px\;"><a href="mailto:hope@unitedcorpuschristi.org?subject=2023%20Lemonade%20Micro%20Loan%20Day%20">hope@unitedcorpuschristi.org</a></span></strong></span>
LOCATION:TBD
UID:e.1866.28234
SEQUENCE:3
DTSTAMP:20260424T024127Z
URL:https://chamber.unitedcorpuschristi.org/events/details/lemonade-micro-loan-day-2023-28234
END:VEVENT

END:VCALENDAR
