BEGIN:VCALENDAR
VERSION:2.0
PRODID:-//ChamberMaster//Event Calendar 2.0//EN
METHOD:PUBLISH
X-PUBLISHED-TTL:P3D
REFRESH-INTERVAL:P3D
CALSCALE:GREGORIAN
BEGIN:VEVENT
DTSTART:20230322T220000Z
DTEND:20230323T000000Z
X-MICROSOFT-CDO-ALLDAYEVENT:FALSE
SUMMARY:Lemonade Day Coastal Bend Kick-Off Party
DESCRIPTION:Are you ready to get the party started?\n\n\n\nJoin us for the Lemonade Day Coastal Bend Kick-Off Party on March 22\, 2023 at 5 pm! Join the fun and register to participate in Lemonade Day Coastal Bend!
X-ALT-DESC;FMTTYPE=text/html:<div data-block="true" data-editor="7ut8d" data-offset-key="95um7-0-0" style="font-family: &quot\;Segoe UI Historic&quot\;\, &quot\;Segoe UI&quot\;\, Helvetica\, Arial\, sans-serif\; color: rgb(5\, 5\, 5)\; font-size: 15px\; white-space: pre-wrap\;">\n<div class="_1mf _1mj" data-offset-key="95um7-0-0" style="position: relative\; direction: ltr\; font-family: inherit\;"><span data-offset-key="95um7-0-0" style="font-family: inherit\;">Are you ready to get the party started?</span></div>\n</div>\n\n<div data-block="true" data-editor="7ut8d" data-offset-key="esnvq-0-0" style="font-family: &quot\;Segoe UI Historic&quot\;\, &quot\;Segoe UI&quot\;\, Helvetica\, Arial\, sans-serif\; color: rgb(5\, 5\, 5)\; font-size: 15px\; white-space: pre-wrap\;">\n<div class="_1mf _1mj" data-offset-key="esnvq-0-0" style="position: relative\; direction: ltr\; font-family: inherit\;"><span data-offset-key="esnvq-0-0" style="font-family: inherit\;">Join us for the Lemonade Day Coastal Bend Kick-Off Party on March 22\, 2023 at 5 pm! Join the fun and register to participate in Lemonade Day Coastal Bend! </span></div>\n</div>\n
LOCATION:Antonio E. Garcia Arts & Education Center 2021 Agnes St.\, Corpus Christi\, TX 78405
UID:e.1866.28677
SEQUENCE:3
DTSTAMP:20260424T024246Z
URL:https://chamber.unitedcorpuschristi.org/events/details/lemonade-day-coastal-bend-kick-off-party-28677
END:VEVENT

END:VCALENDAR
