BEGIN:VCALENDAR
VERSION:2.0
PRODID:-//ChamberMaster//Event Calendar 2.0//EN
METHOD:PUBLISH
X-PUBLISHED-TTL:P3D
REFRESH-INTERVAL:P3D
CALSCALE:GREGORIAN
BEGIN:VEVENT
DTSTART:20230211T130000Z
DTEND:20230211T170000Z
X-MICROSOFT-CDO-ALLDAYEVENT:FALSE
SUMMARY:Leave a Legacy 5k/10k
DESCRIPTION:Leave a Legacy 5K & 10K allows Agape Ranch to raise awareness and funds for foster\, adoption ready\, aged-out\, and vulnerable children\, youth\, and families in the Coastal Bend. \n\nRACE DAY DETAILS\n\nRACE SCHEDULE:\n\n\n	7:45 a.m. 1K Fun Run\n	8:00 a.m. 10K\n	8:05 a.m. 5K?\n\n\n?RACE CATEGORIES:\n\n\n	1K Fun Run\n	Students (K-12) 5K\n	Adults 5K \n	10K\n\n\n\n\nREGISTRATION DETAILS\n\nEarly Bird Registration (11/10/22 - 1/13/23)\n\n\n	$10 (1K)\, $15 (Students\, 5K)\, $25 (Adults 5K)\, $40 (10K)\n	Deadline for guaranteed race shirts ends with Early Bird Registration\n\n\nGeneral Registration (1/14/23 - 2/10/23)\n\n\n	$10 (1K)\, $15 (Students\, 5K)\, $30 (Adults 5K)\, $45 (10K)\n\n\n?Race-day registration: 6:30 a.m.   7:30 a.m. Registration fees increase by $10 per race on race day.\n\n\n\nGuaranteed race t-shirts for all participants registered by January 13\, 2023
X-ALT-DESC;FMTTYPE=text/html:<p style="text-align: justify\;">Leave a Legacy 5K &amp\; 10K allows Agape Ranch to raise awareness and funds for foster\, adoption ready\, aged-out\, and vulnerable children\, youth\, and families in the Coastal Bend.&nbsp\;</p>\n\n<p style="text-align: justify\;"><strong>RACE DAY DETAILS</strong></p>\n\n<p style="text-align: justify\;"><u>RACE SCHEDULE:</u></p>\n\n<ul>\n	<li style="text-align: justify\;">7:45 a.m. 1K Fun Run</li>\n	<li style="text-align: justify\;">8:00 a.m. 10K</li>\n	<li style="text-align: justify\;">8:05 a.m. 5K?</li>\n</ul>\n\n<p style="text-align: justify\;">?<u>RACE CATEGORIES:</u></p>\n\n<ul>\n	<li style="text-align: justify\;">1K Fun Run</li>\n	<li style="text-align: justify\;">Students (K-12) 5K</li>\n	<li style="text-align: justify\;">Adults 5K&nbsp\;</li>\n	<li style="text-align: justify\;">10K</li>\n</ul>\n\n<p style="text-align: justify\;"><br />\n<strong>REGISTRATION DETAILS</strong></p>\n\n<p style="text-align: justify\;"><strong>Early Bird Registration </strong><em>(11/10/22 - 1/13/23)</em></p>\n\n<ul>\n	<li style="text-align: justify\;">$10 (1K)\, $15 (Students\, 5K)\, $25 (Adults 5K)\, $40 (10K)</li>\n	<li style="text-align: justify\;"><em>Deadline for guaranteed race shirts ends with Early Bird Registration</em></li>\n</ul>\n\n<div style="text-align: justify\;"><strong>General Registration </strong><em>(1/14/23 - 2/10/23)</em></div>\n\n<ul>\n	<li style="text-align: justify\;">$10 (1K)\, $15 (Students\, 5K)\, $30 (Adults 5K)\, $45 (10K)</li>\n</ul>\n\n<p style="text-align: justify\;"><strong>?Race-day registration</strong>: 6:30 a.m. &ndash\; 7:30 a.m. Registration fees increase by<strong> $10 per race on race day</strong>.</p>\n\n<p style="text-align: justify\;"><br />\n<strong><em>Guaranteed race t-shirts for all participants registered by January 13\, 2023</em></strong></p>\n\n<div>&nbsp\;</div>\n
LOCATION:Texas A&M University - Corpus Christi Hammer Head Parking Lot 6300 Ocean Dr. Corpus Christi\, TX 78412
UID:e.1866.27761
SEQUENCE:3
DTSTAMP:20260424T003424Z
URL:https://chamber.unitedcorpuschristi.org/events/details/leave-a-legacy-5k-10k-27761
END:VEVENT

END:VCALENDAR
