BEGIN:VCALENDAR
VERSION:2.0
PRODID:-//ChamberMaster//Event Calendar 2.0//EN
METHOD:PUBLISH
X-PUBLISHED-TTL:P3D
REFRESH-INTERVAL:P3D
CALSCALE:GREGORIAN
BEGIN:VEVENT
DTSTART:20260424T180000Z
DTEND:20260424T200000Z
X-MICROSOFT-CDO-ALLDAYEVENT:FALSE
SUMMARY:Islanders Beach Volleyball Southland Championship Game
DESCRIPTION:The Texas A&M University-Corpus Christi Islanders Beach Volleyball competes in the Southland Conference Championship game on Friday\, April 24\, at 1 p.m. at Water's Edge Park - 602 S. Shoreline Blvd.\n\n\n\nJoin the festivities as we cheer on the hometown team to victory in the Southland Conference. Before the first serve\, stop by the Islander Alumni Association's Fan Zone for free pom poms\, foam shakas\, and other giveaways while supplies last. The game is free and open to the public.\n\n\n\nCan't attend? Stream it live on ESPN+. Go Islanders and #ShakasUp!
X-ALT-DESC;FMTTYPE=text/html:The Texas A&amp\;M University-Corpus Christi Islanders Beach Volleyball competes in the Southland Conference Championship game on Friday\, April 24\, at 1 p.m. at Water&rsquo\;s Edge Park - 602 S. Shoreline Blvd.<br />\n<br />\nJoin the festivities as we cheer on the hometown team to victory in the Southland Conference. Before the first serve\, stop by the Islander Alumni Association&rsquo\;s Fan Zone for free pom poms\, foam shakas\, and other giveaways while supplies last. The game is free and open to the public.<br />\n<br />\nCan&rsquo\;t attend? Stream it live on ESPN+. Go Islanders and #ShakasUp!&nbsp\;&nbsp\;
LOCATION:Water's Edge Park - 602 S. Shoreline Blvd.
UID:e.1866.30938
SEQUENCE:3
DTSTAMP:20260424T180748Z
URL:https://chamber.unitedcorpuschristi.org/events/details/islanders-beach-volleyball-southland-championship-game-30938
END:VEVENT

END:VCALENDAR
