BEGIN:VCALENDAR
VERSION:2.0
PRODID:-//ChamberMaster//Event Calendar 2.0//EN
METHOD:PUBLISH
X-PUBLISHED-TTL:P3D
REFRESH-INTERVAL:P3D
CALSCALE:GREGORIAN
BEGIN:VEVENT
DTSTART:20211119T230000Z
DTEND:20211120T020000Z
X-MICROSOFT-CDO-ALLDAYEVENT:FALSE
SUMMARY:Islander Lights
DESCRIPTION:Celebrate the holiday season during Texas A&M University-Corpus Christi's 15th Annual Islander Lights\, Friday\, Nov. 19\, from 5-8 p.m. at the Island University. All islanders along with the community are invited to ring the happiest time of the year with Santa\, live reindeer\, food\, fun and much more\, including the annual Lighting Ceremony in Lee Plaza and the Arts & Crafts Market. Admission is free. All are encouraged to bring a toy donation to benefit Toys for Tots. The Islander Lights celebration is followed by the Sounds of the Season Holiday Concert! Concert tickets start off at $5. For more information\, visit https://islanderlights.tamucc.edu/.
X-ALT-DESC;FMTTYPE=text/html:<span style="color:rgb(40\, 60\, 70)\; font-family:-apple-system\,system-ui\,system-ui\,segoe ui\,helvetica\,arial\,sans-serif\,apple color emoji\,segoe ui emoji\,segoe ui symbol\; font-size:19.8px">Celebrate the holiday season during Texas A&amp\;M University-Corpus Christi&rsquo\;s 15th Annual Islander Lights\, Friday\, Nov. 19\, from 5-8 p.m. at the Island University. All islanders along with the community are invited to ring the happiest time of the year with Santa\, live reindeer\, food\, fun and much more\, including the annual Lighting Ceremony in Lee Plaza and the Arts &amp\; Crafts Market. Admission is free. All are encouraged to bring a toy donation to benefit Toys for Tots. The Islander Lights celebration is followed by the Sounds of the Season Holiday Concert! Concert tickets start off at $5. For more information\, visit&nbsp\;</span><a href="https://islanderlights.tamucc.edu/" rel="noreferrer" style="box-sizing: border-box\; background-image: initial\; background-position: initial\; background-size: initial\; background-repeat: initial\; background-attachment: initial\; background-origin: initial\; background-clip: initial\; color: rgb(27\, 106\, 201)\; font-family: -apple-system\, system-ui\, system-ui\, &quot\;Segoe UI&quot\;\, Helvetica\, Arial\, sans-serif\, &quot\;Apple Color Emoji&quot\;\, &quot\;Segoe UI Emoji&quot\;\, &quot\;Segoe UI Symbol&quot\;\; font-size: 19.8px\;" target="_blank">https://islanderlights.tamucc.edu/</a><span style="color:rgb(40\, 60\, 70)\; font-family:-apple-system\,system-ui\,system-ui\,segoe ui\,helvetica\,arial\,sans-serif\,apple color emoji\,segoe ui emoji\,segoe ui symbol\; font-size:19.8px">.</span>
LOCATION:Texas A&M University-Corpus Christi
UID:e.1866.27354
SEQUENCE:3
DTSTAMP:20260419T151037Z
URL:https://chamber.unitedcorpuschristi.org/events/details/islander-lights-27354
END:VEVENT

END:VCALENDAR
